BEGIN:VCALENDAR
VERSION:2.0
PRODID:-//Vereinigung der Verfolgten des Naziregimes - ECPv6.15.20//NONSGML v1.0//EN
CALSCALE:GREGORIAN
METHOD:PUBLISH
X-WR-CALNAME:Vereinigung der Verfolgten des Naziregimes
X-ORIGINAL-URL:https://sachsen-anhalt.vvn-bda.de
X-WR-CALDESC:Veranstaltungen für Vereinigung der Verfolgten des Naziregimes
REFRESH-INTERVAL;VALUE=DURATION:PT1H
X-Robots-Tag:noindex
X-PUBLISHED-TTL:PT1H
BEGIN:VTIMEZONE
TZID:Europe/Berlin
BEGIN:DAYLIGHT
TZOFFSETFROM:+0100
TZOFFSETTO:+0200
TZNAME:CEST
DTSTART:20230326T010000
END:DAYLIGHT
BEGIN:STANDARD
TZOFFSETFROM:+0200
TZOFFSETTO:+0100
TZNAME:CET
DTSTART:20231029T010000
END:STANDARD
BEGIN:DAYLIGHT
TZOFFSETFROM:+0100
TZOFFSETTO:+0200
TZNAME:CEST
DTSTART:20240331T010000
END:DAYLIGHT
BEGIN:STANDARD
TZOFFSETFROM:+0200
TZOFFSETTO:+0100
TZNAME:CET
DTSTART:20241027T010000
END:STANDARD
BEGIN:DAYLIGHT
TZOFFSETFROM:+0100
TZOFFSETTO:+0200
TZNAME:CEST
DTSTART:20250330T010000
END:DAYLIGHT
BEGIN:STANDARD
TZOFFSETFROM:+0200
TZOFFSETTO:+0100
TZNAME:CET
DTSTART:20251026T010000
END:STANDARD
END:VTIMEZONE
BEGIN:VEVENT
DTSTART;TZID=Europe/Berlin:20240405T163000
DTEND;TZID=Europe/Berlin:20240405T203000
DTSTAMP:20260423T202505
CREATED:20240401T140838Z
LAST-MODIFIED:20240402T110635Z
UID:1696-1712334600-1712349000@sachsen-anhalt.vvn-bda.de
SUMMARY:Ihr seid hier nicht willkommen! Protest gegen den AfD-Bürgerdialog in Merseburg!
DESCRIPTION:Am 5. April lädt die #noAfD Bundestagsfraktion zu einem sog. Bürgerdialog in die Gaststätte „#Solidarität“ in #Merseburg ein. \nUnter anderem Martin Reichardt\, Jan Wenzel Schmidt und Hans-Thomas Tillschneider werden diese Veranstaltung nutzen\, um für die menschenverachtende Politik der in Sachsen-Anhalt und weiteren Bundesländern gesichert #rechtsextremistischen #noAfD zu werben und Hass und Hetze zu verbreiten. \nGemeinsam stellen wir uns dem #entgegen und sagen: IHR SEID HIER NICHT WILLKOMMEN! \nKommt zum #Protest am Freitag\, den 5. April ab 16:30 Uhr an der #Radrennbahn Merseburg\, Am Airpark 1.\n \n  \nVia Instagram: @mervielfalt
URL:https://sachsen-anhalt.vvn-bda.de/event/kein-afd-buergerdialog-in-merseburg/
LOCATION:Radrennbahn Merseburg\, Radrennbahn\, Merseburg
CATEGORIES:Protest
ATTACH;FMTTYPE=image/jpeg:https://sachsen-anhalt.vvn-bda.de/wp-content/uploads/sites/71/2024/04/Ihr-seid-hier-nicht-willkommen-Protest-gegen-den-AfD-Buergerdialog-in-Merseburg.jpg
END:VEVENT
BEGIN:VEVENT
DTSTART;TZID=Europe/Berlin:20240426T170000
DTEND;TZID=Europe/Berlin:20240426T190000
DTSTAMP:20260423T202505
CREATED:20240411T153352Z
LAST-MODIFIED:20240411T153352Z
UID:1769-1714150800-1714158000@sachsen-anhalt.vvn-bda.de
SUMMARY:Kundgebung: Keine Ruhe der AfD! / Magdeburg
DESCRIPTION:📢❗📬 Am 26. April lädt die AfD-Bundestagsfraktion\nzu einem Bürgerdialog in Magdeburg\, in die Veranstaltungs-Location *halber85* ein. \nDie Vertreter*innen der faschistischen AfD (u.a. Maximilian Krah – Spitzenkandidat zur Europawahl) werden diese Veranstaltung nutzen\, um die menschenverachtende Politik zu verbreiten und für Hass und Hetze zu werben. \nGemeinsam stellen wir uns dem entgegen und sagen: KEINE RUHE DER AFD!\nKommt zu unserer Kundgebung am 26. April\, ab 17.00 Uhr.
URL:https://sachsen-anhalt.vvn-bda.de/event/kundgebung-keine-ruhe-der-afd-magdeburg/
CATEGORIES:Protest
ATTACH;FMTTYPE=image/jpeg:https://sachsen-anhalt.vvn-bda.de/wp-content/uploads/sites/71/2024/04/20240426solidarischemagdeburg.jpg
END:VEVENT
END:VCALENDAR