BEGIN:VCALENDAR
VERSION:2.0
PRODID:-//Vereinigung der Verfolgten des Naziregimes - ECPv6.15.20//NONSGML v1.0//EN
CALSCALE:GREGORIAN
METHOD:PUBLISH
X-WR-CALNAME:Vereinigung der Verfolgten des Naziregimes
X-ORIGINAL-URL:https://sachsen-anhalt.vvn-bda.de
X-WR-CALDESC:Veranstaltungen für Vereinigung der Verfolgten des Naziregimes
REFRESH-INTERVAL;VALUE=DURATION:PT1H
X-Robots-Tag:noindex
X-PUBLISHED-TTL:PT1H
BEGIN:VTIMEZONE
TZID:Europe/Berlin
BEGIN:DAYLIGHT
TZOFFSETFROM:+0100
TZOFFSETTO:+0200
TZNAME:CEST
DTSTART:20230326T010000
END:DAYLIGHT
BEGIN:STANDARD
TZOFFSETFROM:+0200
TZOFFSETTO:+0100
TZNAME:CET
DTSTART:20231029T010000
END:STANDARD
BEGIN:DAYLIGHT
TZOFFSETFROM:+0100
TZOFFSETTO:+0200
TZNAME:CEST
DTSTART:20240331T010000
END:DAYLIGHT
BEGIN:STANDARD
TZOFFSETFROM:+0200
TZOFFSETTO:+0100
TZNAME:CET
DTSTART:20241027T010000
END:STANDARD
BEGIN:DAYLIGHT
TZOFFSETFROM:+0100
TZOFFSETTO:+0200
TZNAME:CEST
DTSTART:20250330T010000
END:DAYLIGHT
BEGIN:STANDARD
TZOFFSETFROM:+0200
TZOFFSETTO:+0100
TZNAME:CET
DTSTART:20251026T010000
END:STANDARD
END:VTIMEZONE
BEGIN:VEVENT
DTSTART;TZID=Europe/Berlin:20240624T080000
DTEND;TZID=Europe/Berlin:20240624T100000
DTSTAMP:20260423T175240
CREATED:20240617T162917Z
LAST-MODIFIED:20240617T163201Z
UID:1941-1719216000-1719223200@sachsen-anhalt.vvn-bda.de
SUMMARY:Kundgebung: "Nazi-Höcke wieder den Prozess machen!" / Halle
DESCRIPTION:Nazi-Höcke wieder den Prozess machen!\nAm 24. Juni und am 26. Juni steht der Faschist Björn Höcke wieder vor Gericht. Erneut wird vor dem Landgericht Halle gegen den völkischen Agitator der AfD und Möchtegern-Ministerpräsidenten von Thüringen ein Prozess wegen Volksverhetzung geführt.\nDieses mal geht es darum\, dass er die SA-Parole „Alles für Deutschland“ nicht selbst genutzt\, sondern das Publikum dazu aufgefordert haben soll\, den entsprechenden Ausspruch zu beenden. Das tat er mutmaßlich im Wissen um die Strafbarkeit und die Bedeutung des Ausspruches\, womit er sich ganz bewusst in eine Reihe mit den faschistischen Mördern der SA stellt.\nDie AfD spielt mit den Symbolen des Faschismus\, ihre Kader kommen aus etlichen neo-nazistischen Kleingruppen\, ihre Mitarbeiter*innen rekrutieren sich wesentlich aus der „Deutschen Burschenschaft“\, in der schon vor über zehn Jahren ein „Ariernachweis“ diskutiert wurde. Sie ist rassistisch\, sozial-chauvinistisch\, antisemitisch\, sexistisch und queerfeindlich. Und sie will sich vor dem Hintergrund der steigenden Zustimmungswerte umso radikaler und rücksichtsloser durchsetzen.\nDas macht es umso notwendiger\, dagegenzuhalten. Das betrifft einerseits den Rechtsstaat: Immer wieder kommt es zu Volksverhetzung von AfDler*innen\, zu Übergriffen auf politische Gegner*innen\, zum Horten von Waffen und zur positiven Bezugnahme auf den deutschen Faschismus. All das ist strafbar\, muss aber auch verfolgt und geahndet werden. Das muss funktionieren. Andererseits sind aber ebenso Politik und Zivilgesellschaft gefragt. Die Politik muss endlich handeln und ein AfD-Verbot beantragen. Die Zivilgesellschaft muss im Alltag dagegenhalten\, auf die Straße gehen und die extreme Rechte überall dort bekämpfen\, wo sie auftaucht!\nDeswegen rufen wir als VVN-BdA Sachsen-Anhalt erneut zum Protest auf. Wir wollen zum Prozessauftakt am 24. Juni wieder vor dem Justizzentrum in Halle stehen und deutlich machen\, dass wir den Kampf gegen die AfD jetzt erst recht weiterführen werden. Der Faschist Björn Höcke schmückt sich mit SA-Parolen – das darf nicht unwidersprochen bleiben!
URL:https://sachsen-anhalt.vvn-bda.de/event/kundgebung-nazi-hoecke-wieder-den-prozess-machen-halle/
LOCATION:Justizzentrum Halle\, Thüringer Straße 16\, Halle (Saale)
CATEGORIES:Protest
ATTACH;FMTTYPE=image/png:https://sachsen-anhalt.vvn-bda.de/wp-content/uploads/sites/71/2024/06/20240617NaziHoeckewiederdenProzessmachen.png
ORGANIZER;CN="VVN-BdA VL Sachsen-Anhalt e. V.":MAILTO:sachsen-anhalt@vvn-bda.de
END:VEVENT
BEGIN:VEVENT
DTSTART;VALUE=DATE:20240628
DTEND;VALUE=DATE:20240701
DTSTAMP:20260423T175240
CREATED:20240605T162301Z
LAST-MODIFIED:20240605T162301Z
UID:1895-1719532800-1719791999@sachsen-anhalt.vvn-bda.de
SUMMARY:Gesicht zeigengegen Hassund Hetze - egen den AfD Bundesparteitag / Essen
DESCRIPTION:Vom 28. bis 30. Juni 2024 will die AfD in der Messe Essen – im Herzen des Ruhrgebiets – ihren Bundesparteitag abhalten. Wir lassen nicht zu\, dass die AfD unwidersprochen ihren Rassismus verbreitet! Kommt nach Essen\, um mit uns an drei Tagen die AfD mit vielen Aktionen rund um die Grugahalle zu stören! \nRassismus\, Antisemitismus\, Islam- und Queer-Feindlichkeit sowie andere Arten der Diskriminierung sind international auf dem Vormarsch. In Deutschland verschiebt die AfD die Grenzen des Sagbaren und politisch Machbaren immer weiter nach rechts. Sie verbreitet in den Parlamenten ihre Hetze und ermutigt rechte Straßenbewegungen und Gewalttäter:innen. \nJahrelang wurde die AfD verharmlost und konnte sich dadurch im öffentlichen Raum etablieren. Doch die AfD ist nicht „normal“. Sie ist eine im Kern faschistische Partei – Als parlamentarischer Arm des rechten und rassistischen Terrors ist sie eine Brücke zwischen Neonazis\, rechtskonservativen und rechtslibertären Kräften. Die AfD ist antidemokratisch und eine ernsthafte Gefahr für die gesamte Gesellschaft\, insbesondere für alle\, die nicht in ihr menschenverachtendes Weltbild passen. \nDer Faschist Björn Höcke dirigiert bereits die Partei. Er und sein formal aufgelöster\, offen faschistischer „Flügel“ dominieren das Programm der AfD. Bei den Personalabstimmungen auf ihrem Parteitag in Essen planen Höcke & Co. nun den nächsten Schritt zur innerparteilichen Machtübernahme. Zum ersten Mal in der deutschen Nachkriegsgeschichte besteht mit der AfD die Gefahr der dauerhaften Etablierung einer faschistischen Massenpartei. \nMit ihrem Parteitag in Essen will die AfD für die drei Landtagswahlen in Sachsen\, Thüringen und Brandenburg im September dieses Jahres Anlauf nehmen. Bei allen Wahlen rechnet sich die Partei mit ihren jeweils rechtsextremen Kandidat*innen gute Chancen auf Zugewinne aus. Ein starker Protest gegen den Bundesparteitag in Essen ist deshalb auch ein wichtiger Beitrag der Solidarität mit allen\, die sich in diesen drei Bundesländern der AfD entgegenstellen. \nDass die AfD ihren Bundesparteitag ausgerechnet im Ruhrgebiet plant\, ist eine Kampfansage an eine Region\, die seit über 200 Jahren von Migration geprägt ist. Das lassen wir nicht unwidersprochen: Es ist an der Zeit\, die breite\, antirassistische Mehrheit zu mobilisieren\, denn der Kampf gegen die AfD geht uns alle an. Gemeinsam stellen wir uns Hass und Hetze und der AfD entgegen. \nWir lassen nicht zu\, dass Menschenverachtung und Rassismus gesellschaftsfähig gemacht werden. Unsere Alternative ist Solidarität! Wir werden weiterhin Menschen\, die vor Verfolgung\, Krieg\, Hunger und Not flüchten\, mit offenen Armen empfangen\, denn Asyl ist Menschenrecht. Wir setzen uns für eine inklusive Gesellschaft ein\, in der alle\, unabhängig von Glauben\, Geschlecht\, sexueller Orientierung\, Herkunft und sozialem Status gleichberechtigt\, frei und ohne Angst leben können. Wir machen uns stark für gleiche politische und soziale Rechte für alle Menschen. Wir stehen ein für die Freiheit von Wissenschaft\, Kultur und Medien. Wir erinnern an die Verbrechen des NS-Regimes und werden das Gedenken an dessen Opfer aufrechterhalten. Wir laden alle Menschen im Ruhrgebiet und aus dem ganzen Bundesgebiet ein\, mit uns zusammen ein klares Zeichen gegen die AfD zu setzen: Schließt euch den Protesten an und geht am letzten Juni-Wochenende mit uns auf die Straße! – Gegen die AfD und für ein gutes Leben für alle Menschen! \nWeitere Informationen: \nhttps://gemeinsam-laut.de/ \nhttps://essq.de/ \nGemeinsame und solidarische Anreise \nhttps://busse.gemeinsam-laut.de/fahrten
URL:https://sachsen-anhalt.vvn-bda.de/event/gesicht-zeigengegen-hassund-hetze-egen-den-afd-bundesparteitag-essen/
CATEGORIES:Protest
ATTACH;FMTTYPE=image/png:https://sachsen-anhalt.vvn-bda.de/wp-content/uploads/sites/71/2024/06/01_Gemeinsam-laut_Vorlage_Sharepic_FEED_Titel.png
END:VEVENT
END:VCALENDAR