BEGIN:VCALENDAR
VERSION:2.0
PRODID:-//Vereinigung der Verfolgten des Naziregimes - ECPv6.15.20//NONSGML v1.0//EN
CALSCALE:GREGORIAN
METHOD:PUBLISH
X-WR-CALNAME:Vereinigung der Verfolgten des Naziregimes
X-ORIGINAL-URL:https://sachsen-anhalt.vvn-bda.de
X-WR-CALDESC:Veranstaltungen für Vereinigung der Verfolgten des Naziregimes
REFRESH-INTERVAL;VALUE=DURATION:PT1H
X-Robots-Tag:noindex
X-PUBLISHED-TTL:PT1H
BEGIN:VTIMEZONE
TZID:Europe/Berlin
BEGIN:DAYLIGHT
TZOFFSETFROM:+0100
TZOFFSETTO:+0200
TZNAME:CEST
DTSTART:20230326T010000
END:DAYLIGHT
BEGIN:STANDARD
TZOFFSETFROM:+0200
TZOFFSETTO:+0100
TZNAME:CET
DTSTART:20231029T010000
END:STANDARD
BEGIN:DAYLIGHT
TZOFFSETFROM:+0100
TZOFFSETTO:+0200
TZNAME:CEST
DTSTART:20240331T010000
END:DAYLIGHT
BEGIN:STANDARD
TZOFFSETFROM:+0200
TZOFFSETTO:+0100
TZNAME:CET
DTSTART:20241027T010000
END:STANDARD
BEGIN:DAYLIGHT
TZOFFSETFROM:+0100
TZOFFSETTO:+0200
TZNAME:CEST
DTSTART:20250330T010000
END:DAYLIGHT
BEGIN:STANDARD
TZOFFSETFROM:+0200
TZOFFSETTO:+0100
TZNAME:CET
DTSTART:20251026T010000
END:STANDARD
END:VTIMEZONE
BEGIN:VEVENT
DTSTART;VALUE=DATE:20240127
DTEND;VALUE=DATE:20240128
DTSTAMP:20260424T121059
CREATED:20240124T193854Z
LAST-MODIFIED:20240125T133239Z
UID:1495-1706313600-1706399999@sachsen-anhalt.vvn-bda.de
SUMMARY:Blankenburg ist bunt
DESCRIPTION:Weitere Infos folgen. \nVia: https://www.gvs-blankenburg.de/aktuelles/blankenburg-ist-bunt \nAußerdem: \n\n\n\n\n\nBlankenburger gedenken der Opfer des Nationalsozialismus\n\n\nAnlässlich des Internationalen Tages des Gedenkens an die Opfer des Holocaust finden auch in Blankenburg (Harz) Veranstaltungen statt.\n\n\n Am Sonnabend\, den 27. Januar 2024\, organisiert der Heimatverein Oesig e.V. um 15:00 Uhr am Gedenkstein für die Opfer des Konzentrationslagers „Klosterwerke“ eine öffentliche Gedenkveranstaltung. Der Stein befindet sich an der Mönchenbreite in der Nähe des Eingangs zum ehemaligen Metallleichtbaukombinat (MLK).\n\n\n Ebenfalls am Sonnabend findet\, veranstaltet durch die Kirchgemeinde in Hüttenrode\, um 17:00 Uhr im Kirchgemeindehaus Hüttenrode eine Andacht mit anschließender Filmvorführung des Israelisch-Französisch-Belgisch-Niederländisch-Rumänischen Films „Zug des Lebens“ statt.\n\n\n Am Montag\, den 29. Januar 2024\, lädt die Stadtverwaltung Blankenburg (Harz) mit Schülerinnen und Schülern der 10. Klassen des Gymnasiums „Am Thie“ um 14:30 Uhr an die zentrale Gedenkstätte am Lühnertorplatz zum gemeinsamen Gedenken ein.\n\n\nAlle interessierten Bürgerinnen\, Bürger und Gäste der Stadt sind herzlich eingeladen\, sich dem Gedenken anzuschließen.\n\n\nVor 79 Jahren – am 27. Januar 1945 – befreiten sowjetische Soldaten das nationalsozialistische Konzentrations- und Vernichtungslager Auschwitz. Mehr als eine Million Menschen wurden dort zwischen 1940 und 1945 ermordet.\nSeit dem Jahr 1996 ist der 27. Januar in der Bundesrepublik der Tag des Gedenkens an die Opfer des Nationalsozialismus\, die Vereinten Nationen erklärten den 27. Januar im Jahr 2005 zum „Internationalen Tag des Gedenkens an die Opfer des Holocaust“. \nVia: blankenburg.de
URL:https://sachsen-anhalt.vvn-bda.de/event/blankenburg-ist-bunt/
LOCATION:Blankenburg\, Lühnertorplatz\, Blankenburg
CATEGORIES:Protest
END:VEVENT
BEGIN:VEVENT
DTSTART;TZID=Europe/Berlin:20240127T150000
DTEND;TZID=Europe/Berlin:20240127T170000
DTSTAMP:20260424T121059
CREATED:20240124T195536Z
LAST-MODIFIED:20240124T195536Z
UID:1508-1706367600-1706374800@sachsen-anhalt.vvn-bda.de
SUMMARY:Internationaler Tag des Gedenkens  an die Opfer des Holocaust / Oesig
DESCRIPTION:Anlässlich des Internationalen Tages des Gedenkens an die Opfer des Holocaust finden auch in Blankenburg (Harz) Veranstaltungen statt. \nAm Sonnabend\, den 27. Januar 2024\, organisiert der Heimatverein Oesig e. V. um 15:00 Uhr am Gedenkstein für die Opfer des Konzentrationslagers „Klosterwerke“ eine öffentliche Gedenkveranstaltung. Der Stein befindet sich an der Mönchenbreite in der Nähe des Eingangs zum ehemaligen Metallleichtbaukombinat (MLK). \nEbenfalls am Sonnabend findet\, veranstaltet durch die Kirchgemeinde in Hüttenrode\, um 17:00 Uhr im Kirchgemeindehaus Hüttenrode eine Andacht mit anschließender Filmvorführung des Israelisch-Französisch-Belgisch-Niederländisch-Rumänischen Films „Zug des Lebens“ statt. \nAm Montag\, den 29. Januar 2024\, lädt die Stadtverwaltung Blankenburg (Harz) mit Schülerinnen und Schülern der 10. Klassen des Gymnasiums „Am Thie“ um 14:30 Uhr an die zentrale Gedenkstätte am Lühnertorplatz zum gemeinsamen Gedenken ein. \nAlle interessierten Bürgerinnen\, Bürger und Gäste der Stadt sind herzlich eingeladen\, sich dem Gedenken anzuschließen. \nVor 79 Jahren – am 27. Januar 1945 – befreiten sowjetische Soldaten das nationalsozialistische Konzentrations- und Vernichtungslager Auschwitz. Mehr als eine Million Menschen wurden dort zwischen 1940 und 1945 ermordet. Seit dem Jahr 1996 ist der 27. Januar in der Bundesrepublik der Tag des Gedenkens an die Opfer des Nationalsozialismus\, die Vereinten Nationen erklärten den 27. Januar im Jahr 2005 zum „Internationalen Tag des Gedenkens an die Opfer des Holocaust“. \n \nVia: https://www.blankenburg.de/aktuelles/details/artikel/blankenburger-gedenken-der-opfer-des-nationalsozialismus/
URL:https://sachsen-anhalt.vvn-bda.de/event/internationaler-tag-des-gedenkens-an-die-opfer-des-holocaust-oesig/
LOCATION:Gedenkstein für die Opfer des Konzentrationslagers „Klosterwerke“ Blankenburg\, Mönchenbreite\, Blankenburg
CATEGORIES:Gedenken
END:VEVENT
END:VCALENDAR