BEGIN:VCALENDAR
VERSION:2.0
PRODID:-//Vereinigung der Verfolgten des Naziregimes - ECPv6.15.20//NONSGML v1.0//EN
CALSCALE:GREGORIAN
METHOD:PUBLISH
X-ORIGINAL-URL:https://sachsen-anhalt.vvn-bda.de
X-WR-CALDESC:Veranstaltungen für Vereinigung der Verfolgten des Naziregimes
REFRESH-INTERVAL;VALUE=DURATION:PT1H
X-Robots-Tag:noindex
X-PUBLISHED-TTL:PT1H
BEGIN:VTIMEZONE
TZID:Europe/Berlin
BEGIN:DAYLIGHT
TZOFFSETFROM:+0100
TZOFFSETTO:+0200
TZNAME:CEST
DTSTART:20220327T010000
END:DAYLIGHT
BEGIN:STANDARD
TZOFFSETFROM:+0200
TZOFFSETTO:+0100
TZNAME:CET
DTSTART:20221030T010000
END:STANDARD
BEGIN:DAYLIGHT
TZOFFSETFROM:+0100
TZOFFSETTO:+0200
TZNAME:CEST
DTSTART:20230326T010000
END:DAYLIGHT
BEGIN:STANDARD
TZOFFSETFROM:+0200
TZOFFSETTO:+0100
TZNAME:CET
DTSTART:20231029T010000
END:STANDARD
BEGIN:DAYLIGHT
TZOFFSETFROM:+0100
TZOFFSETTO:+0200
TZNAME:CEST
DTSTART:20240331T010000
END:DAYLIGHT
BEGIN:STANDARD
TZOFFSETFROM:+0200
TZOFFSETTO:+0100
TZNAME:CET
DTSTART:20241027T010000
END:STANDARD
END:VTIMEZONE
BEGIN:VEVENT
DTSTART;TZID=Europe/Berlin:20231210T130000
DTEND;TZID=Europe/Berlin:20231210T143000
DTSTAMP:20260423T010218
CREATED:20231206T183113Z
LAST-MODIFIED:20231208T183838Z
UID:1349-1702213200-1702218600@sachsen-anhalt.vvn-bda.de
SUMMARY:Kriegsdienstverweigerung ist ein Menschenrecht!
DESCRIPTION:Kriegsdienstverweigerung ist ein Menschenrecht!\nDeshalb gibt es am Tag der Menschenrechte (10.12.) von 13 bis 14:30 Uhr eine Kundgebung mit uns und der DFG-VK\, die auf die Rechte von Verweigerer*innen und Deserteur*innen hinweisen soll. Wir fordern von der deutschen Bundesregierung\, dass diejenigen\, die ihr Recht wahrnehmen und dafür verfolgt werden\, in Deutschland aufgenommen werden. Das muss unabhängig von nationalstaatlichen Interessen und für alle gelten. Trotzdem ist es natürlich besonders empörend\, dass russische Kriegsdienstverweigerer*innen in Deutschland nicht aufgenommen werden\, also das Sich-Entziehen gegenüber einem Angriffskrieg\, welches hart bestraft wird\, den Regierenden nicht als berechtigter Asylgrund erscheint. Deshalb ist es umso wichtiger\, ein starkes Zeichen für dieses Menschenrecht zu setzen.
URL:https://sachsen-anhalt.vvn-bda.de/event/kriegsdienstverweigerung-ist-ein-menschenrecht/
LOCATION:Halle\, Leipziger Turm\, Leipziger Turm\, Halle (Saale)\, Deutschland
CATEGORIES:Protest
ATTACH;FMTTYPE=image/png:https://sachsen-anhalt.vvn-bda.de/wp-content/uploads/sites/71/2023/12/20231208KriegsdienstverweigerungMenschenrecht.png
END:VEVENT
END:VCALENDAR