BEGIN:VCALENDAR
VERSION:2.0
PRODID:-//Vereinigung der Verfolgten des Naziregimes - ECPv6.15.20//NONSGML v1.0//EN
CALSCALE:GREGORIAN
METHOD:PUBLISH
X-WR-CALNAME:Vereinigung der Verfolgten des Naziregimes
X-ORIGINAL-URL:https://sachsen-anhalt.vvn-bda.de
X-WR-CALDESC:Veranstaltungen für Vereinigung der Verfolgten des Naziregimes
REFRESH-INTERVAL;VALUE=DURATION:PT1H
X-Robots-Tag:noindex
X-PUBLISHED-TTL:PT1H
BEGIN:VTIMEZONE
TZID:Europe/Berlin
BEGIN:DAYLIGHT
TZOFFSETFROM:+0100
TZOFFSETTO:+0200
TZNAME:CEST
DTSTART:20230326T010000
END:DAYLIGHT
BEGIN:STANDARD
TZOFFSETFROM:+0200
TZOFFSETTO:+0100
TZNAME:CET
DTSTART:20231029T010000
END:STANDARD
BEGIN:DAYLIGHT
TZOFFSETFROM:+0100
TZOFFSETTO:+0200
TZNAME:CEST
DTSTART:20240331T010000
END:DAYLIGHT
BEGIN:STANDARD
TZOFFSETFROM:+0200
TZOFFSETTO:+0100
TZNAME:CET
DTSTART:20241027T010000
END:STANDARD
BEGIN:DAYLIGHT
TZOFFSETFROM:+0100
TZOFFSETTO:+0200
TZNAME:CEST
DTSTART:20250330T010000
END:DAYLIGHT
BEGIN:STANDARD
TZOFFSETFROM:+0200
TZOFFSETTO:+0100
TZNAME:CET
DTSTART:20251026T010000
END:STANDARD
END:VTIMEZONE
BEGIN:VEVENT
DTSTART;TZID=Europe/Berlin:20240114T140000
DTEND;TZID=Europe/Berlin:20240114T170000
DTSTAMP:20260423T135555
CREATED:20231026T140643Z
LAST-MODIFIED:20231201T150035Z
UID:1208-1705240800-1705251600@sachsen-anhalt.vvn-bda.de
SUMMARY:Gedenken: Ermordung von Rosa Luxemburg und Karl Liebknecht
DESCRIPTION:Gedenken an Rosa und Karl! Gegen Krieg und Krise! Für Frieden und Solidarität! \nTreffpunkt: 13:45 an der Straßenbahnhaltestelle Louise-Otto-Peters-Straße \nGedenken:\nehemalige pädagogische Hochschule Kröllwitz\,\nHoher Weg 8\n06120 Halle (Saale)
URL:https://sachsen-anhalt.vvn-bda.de/event/gedenken-ermordung-von-rosa-luxemburg-und-karl-liebknecht/
CATEGORIES:Gedenken
END:VEVENT
BEGIN:VEVENT
DTSTART;TZID=Europe/Berlin:20240127T180000
DTEND;TZID=Europe/Berlin:20240127T200000
DTSTAMP:20260423T135555
CREATED:20240124T194406Z
LAST-MODIFIED:20240124T194406Z
UID:1499-1706378400-1706385600@sachsen-anhalt.vvn-bda.de
SUMMARY:Nie wieder ist jetzt – never again is now / Halle (Saale)
DESCRIPTION:📣 Nie wieder ist jetzt – never again is now 📣\nKundgebung zum internationalen Holocaust Gedenktag am 27.Januar 2024 \n🗓️ Samstag\, 27.01.2024\n🕕 18:00 Uhr\n📍 Marktplatz \nNicht erst seit den Berichten über aktuelle Pläne zur Deportation & Vertreibung von Millionen Menschen aus Deutschland\, die im Umfeld der AfD diskutiert wurden\, steht für uns fest: die Erinnerung an die Verbrechen der Nazis & an diejenigen\, die von ihnen vertrieben\, entrechtet und millionenfach ermordet wurden\, ist wichtiger denn je. \nDer internationale Holocaust-Gedenktag erinnert in besonderer Weise\, warum es gilt\, sich immer und jederzeit gegen jede Form des Antisemitismus\, gegen jeden Rassismus und jede Ausgrenzung zu stellen. \nWir wollen gemeinsam & in Stille den Millionen Opfern des deutschen Faschismus gedenken & damit auch demonstrieren\, dass wir uns entschlossen & gewaltfrei den menschenverachtenden Plänen alter & neuer Nazis & ihrer Netzwerke entgegenstellen. \n👉 https://www.instagram.com/p/C2fQW6lNavW/?igsh=M2M1a2N2bGM4Y29z
URL:https://sachsen-anhalt.vvn-bda.de/event/nie-wieder-ist-jetzt-never-again-is-now-halle-saale/
LOCATION:Halle\, Marktplatz\, Halle (Saale)
CATEGORIES:Gedenken
ATTACH;FMTTYPE=image/jpeg:https://sachsen-anhalt.vvn-bda.de/wp-content/uploads/sites/71/2024/01/photo_2024-01-24_20-40-48.jpg
END:VEVENT
END:VCALENDAR