BEGIN:VCALENDAR
VERSION:2.0
PRODID:-//Vereinigung der Verfolgten des Naziregimes - ECPv6.15.20//NONSGML v1.0//EN
CALSCALE:GREGORIAN
METHOD:PUBLISH
X-ORIGINAL-URL:https://sachsen-anhalt.vvn-bda.de
X-WR-CALDESC:Veranstaltungen für Vereinigung der Verfolgten des Naziregimes
REFRESH-INTERVAL;VALUE=DURATION:PT1H
X-Robots-Tag:noindex
X-PUBLISHED-TTL:PT1H
BEGIN:VTIMEZONE
TZID:Europe/Berlin
BEGIN:DAYLIGHT
TZOFFSETFROM:+0100
TZOFFSETTO:+0200
TZNAME:CEST
DTSTART:20230326T010000
END:DAYLIGHT
BEGIN:STANDARD
TZOFFSETFROM:+0200
TZOFFSETTO:+0100
TZNAME:CET
DTSTART:20231029T010000
END:STANDARD
BEGIN:DAYLIGHT
TZOFFSETFROM:+0100
TZOFFSETTO:+0200
TZNAME:CEST
DTSTART:20240331T010000
END:DAYLIGHT
BEGIN:STANDARD
TZOFFSETFROM:+0200
TZOFFSETTO:+0100
TZNAME:CET
DTSTART:20241027T010000
END:STANDARD
BEGIN:DAYLIGHT
TZOFFSETFROM:+0100
TZOFFSETTO:+0200
TZNAME:CEST
DTSTART:20250330T010000
END:DAYLIGHT
BEGIN:STANDARD
TZOFFSETFROM:+0200
TZOFFSETTO:+0100
TZNAME:CET
DTSTART:20251026T010000
END:STANDARD
END:VTIMEZONE
BEGIN:VEVENT
DTSTART;TZID=Europe/Berlin:20240501T110000
DTEND;TZID=Europe/Berlin:20240501T170000
DTSTAMP:20260423T085542
CREATED:20240413T102145Z
LAST-MODIFIED:20240414T082903Z
UID:1780-1714561200-1714582800@sachsen-anhalt.vvn-bda.de
SUMMARY:Tag der Arbeit / Halle
DESCRIPTION:Als VVN-BdA Sachsen-Anhalt beteiligen wir uns mit einem Redebeitrag an der Jugenddemonstration und sind auf dem Maifest mit einem Infostand vertreten! Wir wünschen allen eine kämpferischen 1. Mai! \nAufruf der DGBjugend: Heraus zum 1. Mai 2024!\nDie Inflation frisst Löhne und Gehälter weiterhin auf. Es ist absolut richtig\, wenn die Kolleg*innen Tarifrunden offensiv führen und für kräftige Lohnerhöhungen kämpfen. Immer mehr werden Forderungen nach einer Vier-Tage-Woche und nach einer Arbeitszeitverkürzung bei vollem Lohnaus-gleich erhoben. Dies gilt es in Arbeits- kämpfen durchzusetzen\, egal ob im ÖPNV\, Einzelhandel oder in der Industrie. Darum bleibt Streik unser gutes Recht. Allen Plänen zur Einschränkung des Streikrechts erteilen wir eine klare Absage. Schlechte Arbeitsbedingungen werden den Fachkräftemangel nicht beseitigen – gute hingegen schon. \nDas Meckern über eine angeblich nicht leistungsfähige und schlecht gebildete Jugend hat schon lange Tradition. Anstatt sich nur über die PISA-Ergebnisse zu beschweren\, ist es an der Zeit\, Bildung nicht zu einem Privileg für die Zahlungskräftigen verkommen zu lassen. Allen jungen Menschen muss ein guter Ausbildungsplatz mit fairer Vergütung und einer Übernahmeperspektive garantiert werden. \nDie vermeintliche Haushaltskrise heizt die Debatte über angebliche „soziale Wohltaten“ an. Am Ende werden dabei sozial ohnehin schon benachteiligte Menschen gegeneinander ausgespielt. Der Reichtum in der Gesellschaft ist da. Er wird von den Beschäftigten jeden Tag hart erarbeitet. Nur die Früchte dieser Arbeit landen bei den Vermögenden. Nicht ein bisschen mehr Bürgergeld ist der Skandal\, sondern dass der Mindestlohn nur wenig steigt und dass eine Vermögenssteuer für die Regierung ein Fremdwort ist. \nEs ist nicht einzusehen\, dass Schulen marode sind\, es nicht genügend Kitaplätze gibt\, soziale Sicherungssysteme infrage gestellt werden und die öffentliche Infrastruktur verkommt. Es braucht endlich eine steuerliche Umverteilungspolitik zugunsten der breiten Masse\, anstatt die Reichen noch reicher zu machen. \nDemonstration: 11 Uhr Steintor\nMaifest: 12 Uhr Marktplatz\nFaschistische Kräfte nutzen die aktuelle Situation aus\, um teilweise berechtigten Ärger für ihre antisoziale Agenda zu missbrauchen. Ein Blick in die Geschichte und ins Ausland zeigt uns: Immer\, wenn rechte Kräfte regieren\, werden demokratische Rechte abgeschafft\, die Reichen reicher gemacht und soziale Errungenschaften niedergerissen. Egal ob AfD\, Identitäre\, Werteunion oder sonst irgendwer – sie sind Vereine der Eliten\, die für die arbeitende Bevölkerung nichts anzubieten haben\, außer dass alles noch schlimmer wird. \nWir wollen stattdessen eine Gesellschaft\, in der alle Menschen – egal woher sie kommen – gut leben können und gebraucht werden. Wir wollen eine Umwelt\, in der die Menschheit nicht zugrunde geht. Wir wollen demokratische Rechte und ein selbstbestimmtes Leben. \nDeshalb sagen wir: \nHeraus zum 1. Mai!  \nHeraus für unsere Rechte und für unsere Interessen! \nHeraus für eine soziale\, demokratische und antifaschistische Zukunft!
URL:https://sachsen-anhalt.vvn-bda.de/event/tag-der-arbeit-halle/
CATEGORIES:Protest
ATTACH;FMTTYPE=image/png:https://sachsen-anhalt.vvn-bda.de/wp-content/uploads/sites/71/2024/04/1maihalle2024.png
END:VEVENT
BEGIN:VEVENT
DTSTART;TZID=Europe/Berlin:20240512T140000
DTEND;TZID=Europe/Berlin:20240512T170000
DTSTAMP:20260423T085542
CREATED:20240503T095537Z
LAST-MODIFIED:20240504T101805Z
UID:1852-1715522400-1715533200@sachsen-anhalt.vvn-bda.de
SUMMARY:Gedenken an die Bücherverbrennung in Halle
DESCRIPTION:Wir laden am 12. Mai 2024 um 14:00 Uhr auf den Universitätsplatz ein\,\num der verfolgten Autor*innen und ihrer Werke zu erinnern. Neben kurzen Grußworten von Universität Halle \, Halle gegen Rechts und Studierendenrat der Uni Halle werden ausgewählte Gedichte und Texte gelesen (VVN-BdA Sachsen-Anhalt) sowie inhaltliche Impulse vorgetragen (Gedenkstätte Roter Ochse und Institutsgruppe Politikwissenschaft ).\n„Wir haben heute das Glück\, dass die Nazis nicht erfolgreich darin waren\, die Werke der kritischen Autor*innen auszulöschen\, die vielfach ermordet\, inhaftiert oder ins Exil getrieben wurden. Durch ihre Werke stehen uns die Erkenntnisse der Autor*innen zur Verfügung\, die teilweise früh vor dem Faschismus gewarnt haben\, die kritische\, lehrreiche und einfach schöne Bücher geschrieben haben. Es entspricht unserer Pflicht\, die Erinnerung an diejenigen\, die von deutschen Studierenden verfolgt wurden\, nicht untergehen zu lassen.“ Zum 91. Jahrestag der Bücherverbrennung veröffentlicht der Stura Uni Halle eine Broschüre über die Vorgeschichte der Bücherverbrennung\, eine Schilderung der Geschehnisse in Halle\, einen Blick auf die damals verfolgten Autor*innen sowie ein Literaturverzeichnis\, um mehr über die historischen Hintergründe zu erfahren. \nBroschüre: Gedenken an die Bücherverbrennung
URL:https://sachsen-anhalt.vvn-bda.de/event/gedenken-an-die-buecherverbrennung-in-halle/
LOCATION:Martin-Luther-Universität\, Universitätsplatz 1\, Halle (Saale)\, 06108
CATEGORIES:Gedenken
ATTACH;FMTTYPE=image/jpeg:https://sachsen-anhalt.vvn-bda.de/wp-content/uploads/sites/71/2024/05/20240504GedenkenBuecherverbrennung.jpg
END:VEVENT
BEGIN:VEVENT
DTSTART;TZID=Europe/Berlin:20240514T080000
DTEND;TZID=Europe/Berlin:20240514T100000
DTSTAMP:20260423T085542
CREATED:20240510T101436Z
LAST-MODIFIED:20240510T101514Z
UID:1867-1715673600-1715680800@sachsen-anhalt.vvn-bda.de
SUMMARY:Dem Faschisten Höcke den Prozess machen! / Halle
DESCRIPTION:Antifaschistischer Protest zum Höcke-Prozess\nAm 14.5. (Dienstag) soll ab 9 Uhr der Prozess gegen den Faschisten Björn Höcke in den geplanten letzten Verhandlungstag gehen. \nAls VVN-BdA sehen wir in den Prozess nicht nur die Frage\, ob und wie der Chef der Thüringer AfD sich rechtlichen Vergehen schuldig gemacht hat\, sondern in dem\, was verhandelt wird\, einen dringenden Appell an Behörden\, Politik und Zivilgesellschaft\, sich gegen die extreme Rechte zu stellen. \nHöcke wird vorgeworfen\, eine verbotene SA-Kampfparole verwendet zu haben. Immer wieder fallen AfD-Politiker*innen damit auf\, positive Anleihen an den deutschen Faschismus zu nehmen\, wollen ihn positiv verklären und kündigen auch an\, sich faschistische Politik zum Vorbild zu nehmen. \nDass die AfD der offenen Gesellschaft und der Demokratie den Kampf angesagt hat\, ist also offensichtlich. Dass sie dabei die Opfer des deutschen Faschismus jeden Tag aufs Neue verächtlich zu machen sucht\, ist es auch. \nDie Proteste gegen diese menschenverachtende Politik müssen also weitergehen! Als Verband fordern wir ein Verbot der AfD und rufen alle Antifaschist*innen dazu auf\, am 14. Mai vor dem Prozessbeginn ein klares Zeichen gegen die AfD und ihre menschenverachtende Politik zu setzen! \n  \nOrt: Justizzentrum Halle/Saale (Thüringer Str. 16)\nZeit: 8 Uhr
URL:https://sachsen-anhalt.vvn-bda.de/event/dem-faschisten-hoecke-den-prozess-machen-antifaschistischer-protest-zum-hoecke-prozess-in-halle/
LOCATION:Justizzentrum Halle\, Thüringer Straße 16\, Halle (Saale)
CATEGORIES:Protest
ATTACH;FMTTYPE=image/png:https://sachsen-anhalt.vvn-bda.de/wp-content/uploads/sites/71/2024/05/20240510NaziHoeckedenProzessmachen.png
ORGANIZER;CN="VVN-BdA VL Sachsen-Anhalt e. V.":MAILTO:sachsen-anhalt@vvn-bda.de
END:VEVENT
BEGIN:VEVENT
DTSTART;TZID=Europe/Berlin:20240518T100000
DTEND;TZID=Europe/Berlin:20240518T130000
DTSTAMP:20260423T085542
CREATED:20240503T101106Z
LAST-MODIFIED:20240503T145234Z
UID:1858-1716026400-1716037200@sachsen-anhalt.vvn-bda.de
SUMMARY:Aktionstag zum Tag der Kriegsdiensverweigerung / Halle
DESCRIPTION:Kriegsdienstverweigerung ist ein Menschenrecht.\nKriegsdienstverweiger*innen brauchen Asyl.\nKrieg ist ein Verbrechen an der Menschheit. \nAm 15.Mai ist der Internationale Tag der Kriegsdienstverweigerung.\nAus diesem Anlaß veranstalten wir einen Aktionstag am \nSamstag\, den 18.05.2014 ab 10 Uhr\nauf dem Marktplatz in Halle. \nWir fordern:\n• Asyl für Kriegsdienstverweigerer*innen und Deserteure aus Russ-\nland\, Belarus und der Ukraine\n• keine Rekrutierung von Kindersoldaten egal ob in der Bundeswehr\noder anderswo\n• keine Wiedereinführung der Wehrpflicht \nDiese Veranstaltung wird organisiert und unterstützt von\n• der Deutschen Friedensgesellschaft – Vereinigte Kriegsdienstgegner*innen (DFG-VK) Regionalgruppe Sachsen-Anhalt\n• dem Friedenskreis Halle\n• Die Linke Stadtverband Halle\n• Linksjugend Solid Halle\n• den Omas gegen Rechts Halle\n• der Vereinigung der Verfolgten des Naziregimes – Bund der Antifaschistinnen und Antifaschisten (VVN-BdA) Sachsen-Anhalt \n 
URL:https://sachsen-anhalt.vvn-bda.de/event/aktionstag-zum-tag-der-kriegsdiensverweigerung-halle/
LOCATION:Halle\, Marktplatz\, Marktplatz\, Halle (Saale)
CATEGORIES:Protest
ATTACH;FMTTYPE=image/png:https://sachsen-anhalt.vvn-bda.de/wp-content/uploads/sites/71/2024/05/Aktionstag-Kriegsdienstverweigerung.png
END:VEVENT
END:VCALENDAR