BEGIN:VCALENDAR
VERSION:2.0
PRODID:-//Vereinigung der Verfolgten des Naziregimes - ECPv6.15.20//NONSGML v1.0//EN
CALSCALE:GREGORIAN
METHOD:PUBLISH
X-WR-CALNAME:Vereinigung der Verfolgten des Naziregimes
X-ORIGINAL-URL:https://sachsen-anhalt.vvn-bda.de
X-WR-CALDESC:Veranstaltungen für Vereinigung der Verfolgten des Naziregimes
REFRESH-INTERVAL;VALUE=DURATION:PT1H
X-Robots-Tag:noindex
X-PUBLISHED-TTL:PT1H
BEGIN:VTIMEZONE
TZID:Europe/Berlin
BEGIN:DAYLIGHT
TZOFFSETFROM:+0100
TZOFFSETTO:+0200
TZNAME:CEST
DTSTART:20230326T010000
END:DAYLIGHT
BEGIN:STANDARD
TZOFFSETFROM:+0200
TZOFFSETTO:+0100
TZNAME:CET
DTSTART:20231029T010000
END:STANDARD
BEGIN:DAYLIGHT
TZOFFSETFROM:+0100
TZOFFSETTO:+0200
TZNAME:CEST
DTSTART:20240331T010000
END:DAYLIGHT
BEGIN:STANDARD
TZOFFSETFROM:+0200
TZOFFSETTO:+0100
TZNAME:CET
DTSTART:20241027T010000
END:STANDARD
BEGIN:DAYLIGHT
TZOFFSETFROM:+0100
TZOFFSETTO:+0200
TZNAME:CEST
DTSTART:20250330T010000
END:DAYLIGHT
BEGIN:STANDARD
TZOFFSETFROM:+0200
TZOFFSETTO:+0100
TZNAME:CET
DTSTART:20251026T010000
END:STANDARD
END:VTIMEZONE
BEGIN:VEVENT
DTSTART;TZID=Europe/Berlin:20241126T160000
DTEND;TZID=Europe/Berlin:20241126T190000
DTSTAMP:20260423T010127
CREATED:20241121T121521Z
LAST-MODIFIED:20241122T193136Z
UID:2112-1732636800-1732647600@sachsen-anhalt.vvn-bda.de
SUMMARY:Kundgebung: AfD-Verbot\, jetzt! #Halle
DESCRIPTION:📢 AfD-Verbot\, jetzt 💚🩷 \nAm 26.11. 16 Uhr an der Zither-Reinhold-Skulptur! (Höhe Leipziger Straße 90) \nWir machen die Bundestagsabgeordneten darauf aufmerksam\, dass es jetzt an der Zeit ist den Antrag auf Prüfung des AfD-Verbots durch das Bundesverfassungsgericht auf den Weg zu bringen!\n✉️ Bei unserer Kundgebung wird es neben Redebeiträgen die Möglichkeit geben Postkarten direkt an die MdBs auch Sachsen-Anhalt zu schicken. \n✊ Kommt vorbei! 💚🩷⁩
URL:https://sachsen-anhalt.vvn-bda.de/event/kundgebung-afd-verbot-jetzt-halle/
LOCATION:Leiziger Turm\, Leipziger Turm\, Halle (Saale)\, 06108
CATEGORIES:Protest
ATTACH;FMTTYPE=image/png:https://sachsen-anhalt.vvn-bda.de/wp-content/uploads/sites/71/2024/11/26112024AfD-VerbotjetztHalle.png
END:VEVENT
END:VCALENDAR