BEGIN:VCALENDAR
VERSION:2.0
PRODID:-//Vereinigung der Verfolgten des Naziregimes - ECPv6.15.20//NONSGML v1.0//EN
CALSCALE:GREGORIAN
METHOD:PUBLISH
X-ORIGINAL-URL:https://sachsen-anhalt.vvn-bda.de
X-WR-CALDESC:Veranstaltungen für Vereinigung der Verfolgten des Naziregimes
REFRESH-INTERVAL;VALUE=DURATION:PT1H
X-Robots-Tag:noindex
X-PUBLISHED-TTL:PT1H
BEGIN:VTIMEZONE
TZID:Europe/Berlin
BEGIN:DAYLIGHT
TZOFFSETFROM:+0100
TZOFFSETTO:+0200
TZNAME:CEST
DTSTART:20240331T010000
END:DAYLIGHT
BEGIN:STANDARD
TZOFFSETFROM:+0200
TZOFFSETTO:+0100
TZNAME:CET
DTSTART:20241027T010000
END:STANDARD
BEGIN:DAYLIGHT
TZOFFSETFROM:+0100
TZOFFSETTO:+0200
TZNAME:CEST
DTSTART:20250330T010000
END:DAYLIGHT
BEGIN:STANDARD
TZOFFSETFROM:+0200
TZOFFSETTO:+0100
TZNAME:CET
DTSTART:20251026T010000
END:STANDARD
BEGIN:DAYLIGHT
TZOFFSETFROM:+0100
TZOFFSETTO:+0200
TZNAME:CEST
DTSTART:20260329T010000
END:DAYLIGHT
BEGIN:STANDARD
TZOFFSETFROM:+0200
TZOFFSETTO:+0100
TZNAME:CET
DTSTART:20261025T010000
END:STANDARD
END:VTIMEZONE
BEGIN:VEVENT
DTSTART;TZID=Europe/Berlin:20250104T130000
DTEND;TZID=Europe/Berlin:20250104T170000
DTSTAMP:20260422T223119
CREATED:20250102T113210Z
LAST-MODIFIED:20250102T113210Z
UID:2145-1735995600-1736010000@sachsen-anhalt.vvn-bda.de
SUMMARY:AfD-Verbot\, jetzt! /Halle
DESCRIPTION:Zum Abschluss des Wintermarktes: Halle fordert das AfD-Verbot! 💚🩷\nEin Jahr nach den Correctiv Recherchen\, die bundesweit zu Massenprotesten geführt haben\, wird bekannt\, dass sich AfD-Politiker*innen mit Schweizer Neonazis treffen und unverhohlen zugeben\, dass sie nur aus Sorge vor dem AfD-Verbot nicht direkt NS-Vokabular verwenden.\nDas zeigt erstens\, dass die Prüfung des AfD-Verbots dringend geboten ist und zweitens\, dass ein solches Verbotsverfahren ein großer Rückschlag für die extreme Rechte wäre und schon jetzt ihr Auftreten beeinflusst. \nWir rufen dazu auf am 4. Januar ab 13 Uhr an unserer Kundgebung in der Hallenser Innrnstadt (Große Nikolaistraße/Große Steinstraße) teilzunehmen. Es wird wieder die Möglichkeit geben\, Postkarten an Bundestagsabgeordnete zu schreiben. Außerdem haben wir Redebeiträge\, Infomaterial\, Musik und Dosenwerfen für euch! \nDas ist dann auch die perfekte Vorbereitung für die Widersetzen-Proteste gegen den Bundesparteitag der Faschist*innen in Riesa! 💜🧡⁩
URL:https://sachsen-anhalt.vvn-bda.de/event/afd-verbot-jetzt-halle/
LOCATION:Kleinschmieden\, Kleinschmieden\, Halle (Saale)
CATEGORIES:Protest
ATTACH;FMTTYPE=image/png:https://sachsen-anhalt.vvn-bda.de/wp-content/uploads/sites/71/2025/01/20250102AfDVerbotHalle.png
END:VEVENT
BEGIN:VEVENT
DTSTART;TZID=Europe/Berlin:20250121T180000
DTEND;TZID=Europe/Berlin:20250121T200000
DTSTAMP:20260422T223119
CREATED:20250114T165130Z
LAST-MODIFIED:20250114T165130Z
UID:2157-1737482400-1737489600@sachsen-anhalt.vvn-bda.de
SUMMARY:Podiumsgespräch: Medien zwischen Sensation und Verantwortung - 5 Jahre nach dem Anschlag in Halle und Landsberg-Wiedersdorf
DESCRIPTION:📍Dienstag\, 21. Januar 2025 um 18:00 Uhr im Schaufenster\, Neues Theater Halle \n📩 Anmeldung zur Teilnahme wird erbeten via Mail an: anmeldung@miteinander-ev.de \n5 Jahre nach dem Anschlag in Halle und Landsberg-Wiedersdorf laden wir dazu ein\, diese und weitere Fragen zu diskutieren:\nInwiefern tragen Medien Verantwortung bei der Berichterstattung über rechten Terror und Rechtsextremismus? Wie können Medien sicherstellen\, dass ihre Berichterstattung nicht unbeabsichtigt rechtsextreme Ideologien verstärkt oder normalisiert? Inwieweit sind Medien in ihrer Berichterstattung verpflichtet\, die Opfer von rechtsextremer Gewalt und Terror zu schützen und ihre Privatsphäre zu wahren? \nPodium: Christina Feist\, Karolin Schwarz\, Rachel Spicker\, Mohamed Amjahid \nModeration: Lena Lehmann \nEine Kooperation von: Miteinander e. V. und Halle gegen Rechts – Bündnis für Zivilcourage
URL:https://sachsen-anhalt.vvn-bda.de/event/podiumsgespraech-medien-zwischen-sensation-und-verantwortung-5-jahre-nach-dem-anschlag-in-halle-und-landsberg-wiedersdorf/
LOCATION:Neues Theater Halle\, Große Ulrichstraße 51\, Halle (Saale)\, 06108
CATEGORIES:Bildung
ATTACH;FMTTYPE=image/jpeg:https://sachsen-anhalt.vvn-bda.de/wp-content/uploads/sites/71/2025/01/signal-2025-01-14-173612_002.jpeg
END:VEVENT
BEGIN:VEVENT
DTSTART;TZID=Europe/Berlin:20250125T110000
DTEND;TZID=Europe/Berlin:20250125T170000
DTSTAMP:20260422T223119
CREATED:20250110T090530Z
LAST-MODIFIED:20250110T090530Z
UID:2150-1737802800-1737824400@sachsen-anhalt.vvn-bda.de
SUMMARY:Demo:  AfD STOPPEN – RECHTE NORMALITÄT BRECHEN! / Halle
DESCRIPTION:Am 25. Januar will die AfD in Halle (Saale) ihren bundesweiten Wahlkampfauftakt in der Halle-Messe zelebrieren und vor Tausende Anhängern mit Reden von Alice Weidel und Co eine Menge Hass und Hetze von Halle (Saale) in die gesamte Republik bringen. \nDie AfD ist ein Frontalangriff auf die Demokratie und die freie und vielfältige Gesellschaft. Sie muss gestoppt werden – juristisch\, politisch\, gesellschaftlich. \nGeht mit uns entschlossen und gewaltfrei gegen die AfD und die rechte Normalisierung auf die Straße! Lasst uns einstehen für eine offene\, plurale und solidarische Gesellschaft\, in der die Würde und die Rechte jeder und jedes Einzelnen zählen! \n🗓 Samstag\, 25.01.2025 \n📍Halle Saale (Hbf)\, Ernst-Kamieth-Straße\, Demonstration zur Halle Messe\n🕚 11:00 Uhr \n📍Halle Messe\, Kundgebung\n🕚 11:00 Uhr \n👉 Aufruf: https://www.instagram.com/p/DEo3qcKNltd/?igsh=N201Z3FyOHFhbzIx
URL:https://sachsen-anhalt.vvn-bda.de/event/demo-afd-stoppen-rechte-normalitaet-brechen-halle/
LOCATION:Halle Messe\, Messestraße 10\, Halle (Saale)\, 06116
CATEGORIES:Protest
ATTACH;FMTTYPE=image/jpeg:https://sachsen-anhalt.vvn-bda.de/wp-content/uploads/sites/71/2025/01/photo_2025-01-10_09-57-37.jpg
END:VEVENT
END:VCALENDAR