BEGIN:VCALENDAR
VERSION:2.0
PRODID:-//Vereinigung der Verfolgten des Naziregimes - ECPv6.15.20//NONSGML v1.0//EN
CALSCALE:GREGORIAN
METHOD:PUBLISH
X-ORIGINAL-URL:https://sachsen-anhalt.vvn-bda.de
X-WR-CALDESC:Veranstaltungen für Vereinigung der Verfolgten des Naziregimes
REFRESH-INTERVAL;VALUE=DURATION:PT1H
X-Robots-Tag:noindex
X-PUBLISHED-TTL:PT1H
BEGIN:VTIMEZONE
TZID:Europe/Berlin
BEGIN:DAYLIGHT
TZOFFSETFROM:+0100
TZOFFSETTO:+0200
TZNAME:CEST
DTSTART:20230326T010000
END:DAYLIGHT
BEGIN:STANDARD
TZOFFSETFROM:+0200
TZOFFSETTO:+0100
TZNAME:CET
DTSTART:20231029T010000
END:STANDARD
BEGIN:DAYLIGHT
TZOFFSETFROM:+0100
TZOFFSETTO:+0200
TZNAME:CEST
DTSTART:20240331T010000
END:DAYLIGHT
BEGIN:STANDARD
TZOFFSETFROM:+0200
TZOFFSETTO:+0100
TZNAME:CET
DTSTART:20241027T010000
END:STANDARD
BEGIN:DAYLIGHT
TZOFFSETFROM:+0100
TZOFFSETTO:+0200
TZNAME:CEST
DTSTART:20250330T010000
END:DAYLIGHT
BEGIN:STANDARD
TZOFFSETFROM:+0200
TZOFFSETTO:+0100
TZNAME:CET
DTSTART:20251026T010000
END:STANDARD
END:VTIMEZONE
BEGIN:VEVENT
DTSTART;TZID=Europe/Berlin:20240518T100000
DTEND;TZID=Europe/Berlin:20240518T130000
DTSTAMP:20260424T093816
CREATED:20240503T101106Z
LAST-MODIFIED:20240503T145234Z
UID:1858-1716026400-1716037200@sachsen-anhalt.vvn-bda.de
SUMMARY:Aktionstag zum Tag der Kriegsdiensverweigerung / Halle
DESCRIPTION:Kriegsdienstverweigerung ist ein Menschenrecht.\nKriegsdienstverweiger*innen brauchen Asyl.\nKrieg ist ein Verbrechen an der Menschheit. \nAm 15.Mai ist der Internationale Tag der Kriegsdienstverweigerung.\nAus diesem Anlaß veranstalten wir einen Aktionstag am \nSamstag\, den 18.05.2014 ab 10 Uhr\nauf dem Marktplatz in Halle. \nWir fordern:\n• Asyl für Kriegsdienstverweigerer*innen und Deserteure aus Russ-\nland\, Belarus und der Ukraine\n• keine Rekrutierung von Kindersoldaten egal ob in der Bundeswehr\noder anderswo\n• keine Wiedereinführung der Wehrpflicht \nDiese Veranstaltung wird organisiert und unterstützt von\n• der Deutschen Friedensgesellschaft – Vereinigte Kriegsdienstgegner*innen (DFG-VK) Regionalgruppe Sachsen-Anhalt\n• dem Friedenskreis Halle\n• Die Linke Stadtverband Halle\n• Linksjugend Solid Halle\n• den Omas gegen Rechts Halle\n• der Vereinigung der Verfolgten des Naziregimes – Bund der Antifaschistinnen und Antifaschisten (VVN-BdA) Sachsen-Anhalt \n 
URL:https://sachsen-anhalt.vvn-bda.de/event/aktionstag-zum-tag-der-kriegsdiensverweigerung-halle/
LOCATION:Halle\, Marktplatz\, Marktplatz\, Halle (Saale)
CATEGORIES:Protest
ATTACH;FMTTYPE=image/png:https://sachsen-anhalt.vvn-bda.de/wp-content/uploads/sites/71/2024/05/Aktionstag-Kriegsdienstverweigerung.png
END:VEVENT
END:VCALENDAR