BEGIN:VCALENDAR
VERSION:2.0
PRODID:-//Vereinigung der Verfolgten des Naziregimes - ECPv6.15.20//NONSGML v1.0//EN
CALSCALE:GREGORIAN
METHOD:PUBLISH
X-ORIGINAL-URL:https://sachsen-anhalt.vvn-bda.de
X-WR-CALDESC:Veranstaltungen für Vereinigung der Verfolgten des Naziregimes
REFRESH-INTERVAL;VALUE=DURATION:PT1H
X-Robots-Tag:noindex
X-PUBLISHED-TTL:PT1H
BEGIN:VTIMEZONE
TZID:Europe/Berlin
BEGIN:DAYLIGHT
TZOFFSETFROM:+0100
TZOFFSETTO:+0200
TZNAME:CEST
DTSTART:20230326T010000
END:DAYLIGHT
BEGIN:STANDARD
TZOFFSETFROM:+0200
TZOFFSETTO:+0100
TZNAME:CET
DTSTART:20231029T010000
END:STANDARD
BEGIN:DAYLIGHT
TZOFFSETFROM:+0100
TZOFFSETTO:+0200
TZNAME:CEST
DTSTART:20240331T010000
END:DAYLIGHT
BEGIN:STANDARD
TZOFFSETFROM:+0200
TZOFFSETTO:+0100
TZNAME:CET
DTSTART:20241027T010000
END:STANDARD
BEGIN:DAYLIGHT
TZOFFSETFROM:+0100
TZOFFSETTO:+0200
TZNAME:CEST
DTSTART:20250330T010000
END:DAYLIGHT
BEGIN:STANDARD
TZOFFSETFROM:+0200
TZOFFSETTO:+0100
TZNAME:CET
DTSTART:20251026T010000
END:STANDARD
END:VTIMEZONE
BEGIN:VEVENT
DTSTART;TZID=Europe/Berlin:20240125T120000
DTEND;TZID=Europe/Berlin:20240125T150000
DTSTAMP:20260423T212135
CREATED:20240123T194100Z
LAST-MODIFIED:20240123T194345Z
UID:1464-1706184000-1706194800@sachsen-anhalt.vvn-bda.de
SUMMARY:Dem Rechtsruck widersetzen - Solidarität statt Ausgrenzung / Magdeburg
DESCRIPTION:👉👉👉Aufruf zur Kundgebung am 25. Januar\num 12.00 Uhr vor dem Landtag/ Domplatz \n🔎🔎🔎Die Veröffentlichung der CORRECTIV Recherchen zu einem Geheimtreffen von AfD- und CDU-Politikern der „Werteunion“ sowie weiteren Rechtsextremen haben zu einer bundesweiten Protestbewegung gegen die extreme Rechte geführt. Der Fraktionsführer der NoAfD im Landtag von Sachsen-Anhalt\, Ulrich Siegmund\, hat an diesem Treffen teilgenommen. Damit hat er sich eindeutig für das Amt des Vorsitzenden des Sozialausschusses des Landtages disqualifiziert. Wir fordern seine sofortige Abberufung als Vorsitzender der Landtagsausschusses! \n👍Wir begrüßen es\, dass der Landtag von Sachsen-Anhalt an diesem Donnerstag\, 25.1.24\, auf Antrag der SPD eine aktuelle Debatte über die CORRECTIV-Recherchen führt. Wir sind jedoch entsetzt\, dass auch die NoAfD eine aktuelle Debatte beantragt\, hat mit dem Titel „Remigration!“ Dies zeigt einmal mehr\, dass die NoAfD Landtagsfraktion der parlamentarische Arm der extremen Rechten in Sachsen-Anhalt ist\, vernetzt mit Neonazis\, der identitären Bewegung und zahlreichen anderen rechten Akteur*innen. Sie nutzt ihre parlamentarischen Rechte um ihre Kampfbegriffe\, Konzepte und menschenfeindlichen Politikangebote auch angesichts der bundesweiten Proteste offen zur Schau zu tragen. \n⛔⛔⛔ Wir sagen Nein zu ihrer Hetze und Nein zur Normalisierung faschistischer Politik!\nWir sehen in Magdeburg\, wohin dieses Denken und diese Politik führen. Am 19. Januar kam es erneut zu einem physischen rassistischen Angriff auf vier migrantisch gelesene Menschen*. Auch unsere Empörung darüber wollen wir auf die Straße tragen. Unsere Solidarität gilt den Opfern. Wir lassen uns dadurch nicht verunsichern.\nWir stehen zusammen gegen rassistische Gewalt! \n🌈🌈🌈Unsere Antwort auf ihre Politik ist Solidarität\, Vielfalt und Widerstand. Wir haben am 20.1. mit vielen kreativen Aktionen gezeigt\, dass Magdeburg eine weltoffene und vielfältige Stadt ist. Das wollen wir auch am 25.1. vor dem Landtag tun.\nUnser Motto: SOLIDARITÄT STATT AUSGRENZUNG! \nUnterstützt uns! Kommt zur Kundgebung vor dem Landtag! \n* s. Volksstimme vom 22.1.24\, S.
URL:https://sachsen-anhalt.vvn-bda.de/event/dem-rechtsruck-widersetzen-solidaritaet-statt-ausgrenzung/
LOCATION:Magdeburg\, Domplatz\, Magdeburg
CATEGORIES:Protest
ATTACH;FMTTYPE=image/jpeg:https://sachsen-anhalt.vvn-bda.de/wp-content/uploads/sites/71/2024/01/420657166_2336187809914341_2754794474885271308_n.jpg
END:VEVENT
END:VCALENDAR