BEGIN:VCALENDAR
VERSION:2.0
PRODID:-//Vereinigung der Verfolgten des Naziregimes - ECPv6.15.20//NONSGML v1.0//EN
CALSCALE:GREGORIAN
METHOD:PUBLISH
X-WR-CALNAME:Vereinigung der Verfolgten des Naziregimes
X-ORIGINAL-URL:https://sachsen-anhalt.vvn-bda.de
X-WR-CALDESC:Veranstaltungen für Vereinigung der Verfolgten des Naziregimes
REFRESH-INTERVAL;VALUE=DURATION:PT1H
X-Robots-Tag:noindex
X-PUBLISHED-TTL:PT1H
BEGIN:VTIMEZONE
TZID:Europe/Berlin
BEGIN:DAYLIGHT
TZOFFSETFROM:+0100
TZOFFSETTO:+0200
TZNAME:CEST
DTSTART:20230326T010000
END:DAYLIGHT
BEGIN:STANDARD
TZOFFSETFROM:+0200
TZOFFSETTO:+0100
TZNAME:CET
DTSTART:20231029T010000
END:STANDARD
BEGIN:DAYLIGHT
TZOFFSETFROM:+0100
TZOFFSETTO:+0200
TZNAME:CEST
DTSTART:20240331T010000
END:DAYLIGHT
BEGIN:STANDARD
TZOFFSETFROM:+0200
TZOFFSETTO:+0100
TZNAME:CET
DTSTART:20241027T010000
END:STANDARD
BEGIN:DAYLIGHT
TZOFFSETFROM:+0100
TZOFFSETTO:+0200
TZNAME:CEST
DTSTART:20250330T010000
END:DAYLIGHT
BEGIN:STANDARD
TZOFFSETFROM:+0200
TZOFFSETTO:+0100
TZNAME:CET
DTSTART:20251026T010000
END:STANDARD
END:VTIMEZONE
BEGIN:VEVENT
DTSTART;TZID=Europe/Berlin:20240609T160000
DTEND;TZID=Europe/Berlin:20240609T190000
DTSTAMP:20260423T151208
CREATED:20240605T162649Z
LAST-MODIFIED:20240605T162649Z
UID:1898-1717948800-1717959600@sachsen-anhalt.vvn-bda.de
SUMMARY:Demo & Kundgebung: RECHTE WELLEN BRECHEN! / Magdeburg
DESCRIPTION:Wir laden dazu ein\, am Wahlabend des 9. Juni ein Zeichen für Menschenrechte\, Religionsfreiheit\, Bildung\, freie Kultur\, Individualität\, Vielfalt\, Toleranz und ein friedliches Miteinander – für eine vielfältige\, solidarische\, demokratische Gesellschaft zu setzen. \n\n\nAnlass: Auf dem Alten Markt soll ein vermeintliches „Volksfest“ im Rahmen der Kampagne „Blaue Welle“ des AfD-nahen\, extrem rechten Compact Magazins stattfinden. Das Magazin steht für Verschwörungsfantasien\, Rechte Hetze gegen zahlreiche gesellschaftliche Gruppen. \nWir rufen dazu auf\, sich dieser Veranstaltung entgegenzustellen und eine Wand aus Plakaten\, Transparenten und Bannern zu formen\, zum Schutz der von ihnen verachteten Demokratie und einer bunten Gesellschaft. \n.Wir laden alle Gruppen der demokratischen Zivilgesellschaft  dazu ein\, sich unserer Versammlung anzuschließen. Gemeinsam sind wir ein Wellenbrecher gegen die extreme Rechte. \nUnd auch du bist eingeladen\, am Wahlabend ein friedliches\, aber sichtbares Zeichen für Demokratie und Menschlichkeit und gegen die extreme Rechte zu setzen. Bring gerne ein eigenes Plakat mit! \nVia Solidarisches Magdeburg: http://solidarisches-magdeburg.org/?p=1040
URL:https://sachsen-anhalt.vvn-bda.de/event/demo-kundgebung-rechte-wellen-brechen-magdeburg/
LOCATION:Magdeburg Hbf\, Hauptbahnhof\, Magdeburg
CATEGORIES:Protest
ATTACH;FMTTYPE=image/jpeg:https://sachsen-anhalt.vvn-bda.de/wp-content/uploads/sites/71/2024/06/Rechte-Wellen-brechen-9.6.2024-1.jpg
END:VEVENT
END:VCALENDAR