BEGIN:VCALENDAR
VERSION:2.0
PRODID:-//Vereinigung der Verfolgten des Naziregimes - ECPv6.15.20//NONSGML v1.0//EN
CALSCALE:GREGORIAN
METHOD:PUBLISH
X-ORIGINAL-URL:https://sachsen-anhalt.vvn-bda.de
X-WR-CALDESC:Veranstaltungen für Vereinigung der Verfolgten des Naziregimes
REFRESH-INTERVAL;VALUE=DURATION:PT1H
X-Robots-Tag:noindex
X-PUBLISHED-TTL:PT1H
BEGIN:VTIMEZONE
TZID:Europe/Berlin
BEGIN:DAYLIGHT
TZOFFSETFROM:+0100
TZOFFSETTO:+0200
TZNAME:CEST
DTSTART:20230326T010000
END:DAYLIGHT
BEGIN:STANDARD
TZOFFSETFROM:+0200
TZOFFSETTO:+0100
TZNAME:CET
DTSTART:20231029T010000
END:STANDARD
BEGIN:DAYLIGHT
TZOFFSETFROM:+0100
TZOFFSETTO:+0200
TZNAME:CEST
DTSTART:20240331T010000
END:DAYLIGHT
BEGIN:STANDARD
TZOFFSETFROM:+0200
TZOFFSETTO:+0100
TZNAME:CET
DTSTART:20241027T010000
END:STANDARD
BEGIN:DAYLIGHT
TZOFFSETFROM:+0100
TZOFFSETTO:+0200
TZNAME:CEST
DTSTART:20250330T010000
END:DAYLIGHT
BEGIN:STANDARD
TZOFFSETFROM:+0200
TZOFFSETTO:+0100
TZNAME:CET
DTSTART:20251026T010000
END:STANDARD
END:VTIMEZONE
BEGIN:VEVENT
DTSTART;TZID=Europe/Berlin:20241101T180000
DTEND;TZID=Europe/Berlin:20241101T200000
DTSTAMP:20260423T144908
CREATED:20241024T121727Z
LAST-MODIFIED:20241024T121727Z
UID:2091-1730484000-1730491200@sachsen-anhalt.vvn-bda.de
SUMMARY:Ausstellung: "Neofaschismus in Deutschland" in Halle
DESCRIPTION:Vortrag & Finissage am 1.11.2024 um 18 Uhr zur Kunstausstellung\nmit Gisela vom VVN-BdA \nVon AfD bis Querdenker:innen: Unsere Ausstellung gibt einen Überblick über neofaschistische Entwicklungen in Deutschland. Themen\, Organisationen und Erscheinungs- und Aktionsformen der extremen Rechten haben sich immer wieder verändert und haben sich den veränderten gesellschaftlichen Bedingungen angepasst; zugleich hat sich im Lauf der Zeit auch der gesellschaftliche Umgang mit alten und neuen Nazis verändert.Wir wünschen uns\, dass die Ausstellung dazu beiträgt\, unserem Ziel und dem Ziel der breiten antifaschistischen Bewegung in Deutschland ein Stück näher zu kommen: die AfD aus den Parlamenten zu vertreiben und ihr und der ganzen Bewegung damit die wichtigste Bühne für ihre Hetze\, die Einnahmen aus Steuergeldern\, mit denen sie hunderte Stellen für Nazis aller Art finanziert\, und die Legitimität\, die sie daraus ableitet\, zu nehmen. \nFreitag\, 1.11.2024\, 18 Uhr\nFranckeplatz 1\, Haus 31\, Raum 020\ndeutsche Lautsprache\,\nRäumlichkeiten sind für Rollstuhlfahrer:innen zugänglich.
URL:https://sachsen-anhalt.vvn-bda.de/event/ausstellung-neofaschismus-in-deutschland-in-halle/
LOCATION:Lernwerkstatt\, Franckeplatz 1\, Haus 31\, Raum 020\, Halle (Saale)\, 06110
CATEGORIES:Bildung
ATTACH;FMTTYPE=image/jpeg:https://sachsen-anhalt.vvn-bda.de/wp-content/uploads/sites/71/2024/10/Neofa-Ausstellung-Lernwerkstatthalle.jpg
ORGANIZER;CN="VVN-BdA VL Sachsen-Anhalt e. V.":MAILTO:sachsen-anhalt@vvn-bda.de
END:VEVENT
END:VCALENDAR