BEGIN:VCALENDAR
VERSION:2.0
PRODID:-//Vereinigung der Verfolgten des Naziregimes - ECPv6.15.20//NONSGML v1.0//EN
CALSCALE:GREGORIAN
METHOD:PUBLISH
X-ORIGINAL-URL:https://sachsen-anhalt.vvn-bda.de
X-WR-CALDESC:Veranstaltungen für Vereinigung der Verfolgten des Naziregimes
REFRESH-INTERVAL;VALUE=DURATION:PT1H
X-Robots-Tag:noindex
X-PUBLISHED-TTL:PT1H
BEGIN:VTIMEZONE
TZID:Europe/Berlin
BEGIN:DAYLIGHT
TZOFFSETFROM:+0100
TZOFFSETTO:+0200
TZNAME:CEST
DTSTART:20240331T010000
END:DAYLIGHT
BEGIN:STANDARD
TZOFFSETFROM:+0200
TZOFFSETTO:+0100
TZNAME:CET
DTSTART:20241027T010000
END:STANDARD
BEGIN:DAYLIGHT
TZOFFSETFROM:+0100
TZOFFSETTO:+0200
TZNAME:CEST
DTSTART:20250330T010000
END:DAYLIGHT
BEGIN:STANDARD
TZOFFSETFROM:+0200
TZOFFSETTO:+0100
TZNAME:CET
DTSTART:20251026T010000
END:STANDARD
BEGIN:DAYLIGHT
TZOFFSETFROM:+0100
TZOFFSETTO:+0200
TZNAME:CEST
DTSTART:20260329T010000
END:DAYLIGHT
BEGIN:STANDARD
TZOFFSETFROM:+0200
TZOFFSETTO:+0100
TZNAME:CET
DTSTART:20261025T010000
END:STANDARD
END:VTIMEZONE
BEGIN:VEVENT
DTSTART;TZID=Europe/Berlin:20250107T140000
DTEND;TZID=Europe/Berlin:20250107T180000
DTSTAMP:20260423T214653
CREATED:20241221T214555Z
LAST-MODIFIED:20241221T214555Z
UID:2131-1736258400-1736272800@sachsen-anhalt.vvn-bda.de
SUMMARY:Gedenkdemo Oury Jalloh / Dessau
DESCRIPTION:Gedenkdemonstation durch Dessau zum 20. Todestag von Oury Jalloh. \nMehr Infos zur Demo: https://initiativeouryjalloh.wordpress.com/ oder auf Instagram https://www.instagram.com/initiative_ouryjalloh/ \nZu den Hintergründen des Falls Oury Jalloh hat die ARD eine neue Dokumentation veröffentlicht: https://1.ard.de/oury_jalloh_doku?mdrext und er MDR eine Chronologie: https://www.mdr.de/nachrichten/sachsen-anhalt/oury-jalloh-tod-polizeizelle-dessau-chronologie-100.html
URL:https://sachsen-anhalt.vvn-bda.de/event/gedenkdemo-oury-jalloh-dessau/
LOCATION:Dessau\, Hauptbahnhof\, Hauptbahnhof\, Dessau\, Deutschland
CATEGORIES:Protest
ATTACH;FMTTYPE=image/jpeg:https://sachsen-anhalt.vvn-bda.de/wp-content/uploads/sites/71/2024/12/DemoOuryJalloh2025.jpeg
END:VEVENT
END:VCALENDAR