BEGIN:VCALENDAR
VERSION:2.0
PRODID:-//Vereinigung der Verfolgten des Naziregimes - ECPv6.15.20//NONSGML v1.0//EN
CALSCALE:GREGORIAN
METHOD:PUBLISH
X-ORIGINAL-URL:https://sachsen-anhalt.vvn-bda.de
X-WR-CALDESC:Veranstaltungen für Vereinigung der Verfolgten des Naziregimes
REFRESH-INTERVAL;VALUE=DURATION:PT1H
X-Robots-Tag:noindex
X-PUBLISHED-TTL:PT1H
BEGIN:VTIMEZONE
TZID:Europe/Berlin
BEGIN:DAYLIGHT
TZOFFSETFROM:+0100
TZOFFSETTO:+0200
TZNAME:CEST
DTSTART:20230326T010000
END:DAYLIGHT
BEGIN:STANDARD
TZOFFSETFROM:+0200
TZOFFSETTO:+0100
TZNAME:CET
DTSTART:20231029T010000
END:STANDARD
BEGIN:DAYLIGHT
TZOFFSETFROM:+0100
TZOFFSETTO:+0200
TZNAME:CEST
DTSTART:20240331T010000
END:DAYLIGHT
BEGIN:STANDARD
TZOFFSETFROM:+0200
TZOFFSETTO:+0100
TZNAME:CET
DTSTART:20241027T010000
END:STANDARD
BEGIN:DAYLIGHT
TZOFFSETFROM:+0100
TZOFFSETTO:+0200
TZNAME:CEST
DTSTART:20250330T010000
END:DAYLIGHT
BEGIN:STANDARD
TZOFFSETFROM:+0200
TZOFFSETTO:+0100
TZNAME:CET
DTSTART:20251026T010000
END:STANDARD
END:VTIMEZONE
BEGIN:VEVENT
DTSTART;TZID=Europe/Berlin:20240201T170000
DTEND;TZID=Europe/Berlin:20240201T190000
DTSTAMP:20260422T211707
CREATED:20240131T160905Z
LAST-MODIFIED:20240131T160905Z
UID:1577-1706806800-1706814000@sachsen-anhalt.vvn-bda.de
SUMMARY:Für ein demokratisches Miteinander / Köthen
DESCRIPTION:Via Instagram: pfd_koethenanhalt
URL:https://sachsen-anhalt.vvn-bda.de/event/fuer-ein-demokratisches-miteinander-koethen/
LOCATION:Köthen\, Marktplatz\, Köthen
CATEGORIES:Protest
END:VEVENT
BEGIN:VEVENT
DTSTART;TZID=Europe/Berlin:20240201T190000
DTEND;TZID=Europe/Berlin:20240201T210000
DTSTAMP:20260422T211707
CREATED:20240123T164000Z
LAST-MODIFIED:20240123T194436Z
UID:1434-1706814000-1706821200@sachsen-anhalt.vvn-bda.de
SUMMARY:Nie wieder ist jetzt / Naumburg
DESCRIPTION:Vereint für unsere Demokratie! \n\n\n\n\n\n\nQuelle (Link zu infos):  https://facebook.com/events/s/nie-wieder-ist-jetzt-vereint-f/926097678565286/\n\nVia https://www.demokrateam.org/demos/nie-wieder-ist-jetzt-10/
URL:https://sachsen-anhalt.vvn-bda.de/event/nie-wieder-ist-jetzt/
LOCATION:Naumburg Marktplatz\, Markt 6\, Naumburg (Saale)\, 06618
CATEGORIES:Protest
ATTACH;FMTTYPE=image/jpeg:https://sachsen-anhalt.vvn-bda.de/wp-content/uploads/sites/71/2024/01/IMG_7739.jpeg
END:VEVENT
BEGIN:VEVENT
DTSTART;TZID=Europe/Berlin:20240203T150000
DTEND;TZID=Europe/Berlin:20240203T180000
DTSTAMP:20260422T211707
CREATED:20240131T122630Z
LAST-MODIFIED:20240131T122630Z
UID:1566-1706972400-1706983200@sachsen-anhalt.vvn-bda.de
SUMMARY:Gemeinsam Hand in Hand - WirSindDieBrandmauer / Halle (Saale)
DESCRIPTION:Gemeinsam Hand in Hand – Demokratie leben\, Vielfalt gestalten – Wir rufen auf zu einer Menschenkette für mehr politische Bildung und bessere Integrationsarbeit. (H)alle gegen Rechts\, sei Teil der Brandmauer.\n\nRechtsextreme nutzen Ängste für ihre Ziele.\nMangelnde Integrationsarbeit führt dazu\, dass viele Menschen Schwierigkeiten haben gleichwertig in unserer Gesellschaft teilzunehmen. Dies kann zu Abgrenzung\, Frust und Wut führen\, die von Rechten genutzt werden.\nEin weiterer Punkt ist der Mangel an politischer Bildung. Demokratie-Lernen muss ein fester Bestandteil des Schulalltags sein. Ob Wissen über demokratische Werte oder durch das Erleben demokratischer Prozesse\, politische Bildung darf nicht abwählbar sein und muss fest im Schulsystem verankert werden.\nSeit 2 Wochen gehen Millionen auf die Straße\, um ein Zeichen zu setzen. Die Politik muss jetzt handeln\, um Rechtsextremismus die Grundlage zu entziehen.\nVia Instagram: @bildungsprotest.halle
URL:https://sachsen-anhalt.vvn-bda.de/event/gemeinsam-hand-in-hand-wirsinddiebrandmauer-halle-saale/
LOCATION:Halle\, Marktplatz\, Marktplatz\, Halle (Saale)
CATEGORIES:Protest
ATTACH;FMTTYPE=image/jpeg:https://sachsen-anhalt.vvn-bda.de/wp-content/uploads/sites/71/2024/01/IMG-20240129-WA0011.jpg
END:VEVENT
BEGIN:VEVENT
DTSTART;TZID=Europe/Berlin:20240204T150000
DTEND;TZID=Europe/Berlin:20240204T170000
DTSTAMP:20260422T211707
CREATED:20240129T172407Z
LAST-MODIFIED:20240129T172407Z
UID:1536-1707058800-1707066000@sachsen-anhalt.vvn-bda.de
SUMMARY:Nie wieder ist jetzt! / Weißenfels
DESCRIPTION:Weil „Nie wieder“ jetzt ist! \nAm 4. Februar wird ausgehend vom Bündnis für Toleranz auf dem Marktplatz in Weißenfels demonstriert:\nFür Demokratie\, für Weltoffenheit und für eine Gesellschaft in der alle gut und gern leben können.\nFür ein Weißenfels und ein Land ohne Hass und Hetze.\nFür eine Region\, die solidarisch mit allen Menschen ist und sachlich Kritik an der Politik äußert\, statt auf blanken Populismus und Extremismus hereinzufallen. \nWir hoffen euch am 4. Februar ab 15 Uhr mit auf dem Markt begrüßen zu dürfen.\nDenn für uns gilt auch: Kein Stadt.Raum für Demokratiefeindlichkeit! \nVia Instagram: stadtraum.wsf
URL:https://sachsen-anhalt.vvn-bda.de/event/nie-wieder-ist-jetzt-weissenfels/
LOCATION:Weißenfels\, Marktplatz\, Weißenfels
CATEGORIES:Protest
ATTACH;FMTTYPE=image/jpeg:https://sachsen-anhalt.vvn-bda.de/wp-content/uploads/sites/71/2024/01/Weissenfels.jpg
END:VEVENT
BEGIN:VEVENT
DTSTART;TZID=Europe/Berlin:20240204T160000
DTEND;TZID=Europe/Berlin:20240204T180000
DTSTAMP:20260422T211707
CREATED:20240129T172647Z
LAST-MODIFIED:20240129T172647Z
UID:1541-1707062400-1707069600@sachsen-anhalt.vvn-bda.de
SUMMARY:Nie wieder ist jetzt! / Halberstadt
DESCRIPTION:Via Instagram: zora.halberstadt
URL:https://sachsen-anhalt.vvn-bda.de/event/nie-wieder-ist-jetzt-halberstadt/
LOCATION:Halberstadt\, Holzmarkt\, Halberstadt
CATEGORIES:Protest
END:VEVENT
BEGIN:VEVENT
DTSTART;TZID=Europe/Berlin:20240204T160000
DTEND;TZID=Europe/Berlin:20240204T200000
DTSTAMP:20260422T211707
CREATED:20240131T114453Z
LAST-MODIFIED:20240131T114453Z
UID:1562-1707062400-1707076800@sachsen-anhalt.vvn-bda.de
SUMMARY:Großdemonstration „Gemeinsam gegen Rassismus“ / Magdeburg
DESCRIPTION:Zum 04. Februar mobilisiert das Bündnis „Magdeburg steht auf“ zu einer Großdemonstration unter dem Motto „Gemeinsam gegen Rassismus“ zu 16:00 Uhr auf den Willy-Brandt-Platz. \nVertreter:innen verschiedener studentischer Verbände und antirassistischer Initiativen\, als auch Gewerkschaftler:innen des deutschen Gewerkschaftbundes haben ihre Teilnahme am Protest angekündigt. Im Kontext der aktuell anhaltenden\, bundesweiten Proteste\, die anlässlich der Veröffentlichung der Correctiv-Recherche\, entfachten\, soll auch in Magdeburg ein zivilgesellschaftliches Zeichen gegen den Rechtsruck gesetzt werden: „Wir wollen verschiedene Menschen aus den unterschiedlichsten Milieus auf die Straße bringen und ein Zeichen gegen Ausgrenzung und Rassismus\, für Solidarität und eine offene Gesellschaft setzen“\, so Leon Bahnik\, Mitorganisator der Proteste. \nIm Aufruf des Bündnisses heißt es:\n„Immer wieder kommt es auch in Magdeburg zu fremdenfeindlichen Übergriffen. So erst am 19. Januar diesen Jahres in der Neustadt. Ein Rassist greift mehrere Menschen an\, nur weil sie nicht Deutsch genug aussahen. Keine Einzelfälle\, rechte Gewalt befindet sich in einer Hochkonjunktur. Parallel dazu sagte der Landtagspräsident Sachsen-Anhalts\, Gunnar Schellenberger (CDU)\, eine für den 27.01.\, dem Tag des Gedenkens an die Opfer des Nationalsozialismus\, angedachte Gedenkkundgebung ab. \n„Halt wach dein Gedächtnis“\, die Aufschrift am Zugang zu den Gräbern des Westfriedhofs\, ein Weckruf für uns alle\, aktiv zu werden!\nEs liegt an uns\, der Gesellschaft\, eine politische Kehrtwende einzufordern und den Raum für solidarische\, gemeinsame Krisenlösungen zu öffnen\, um den Schwur von Buchenwald – „Nie wieder Faschismus“ – gerecht zu werden: Nie wieder Faschismus\, das ist keine Phrase\, sondern eine Aufforderung zum Handeln!“ \nVia: http://solidarisches-magdeburg.org/?p=943
URL:https://sachsen-anhalt.vvn-bda.de/event/grossdemonstration-gemeinsam-gegen-rassismus-magdeburg/
LOCATION:Magdeburg Hbf\, Hauptbahnhof\, Magdeburg
CATEGORIES:Protest
ATTACH;FMTTYPE=image/jpeg:https://sachsen-anhalt.vvn-bda.de/wp-content/uploads/sites/71/2024/01/Magdeburgsteht-auf-4.2.jpeg
END:VEVENT
BEGIN:VEVENT
DTSTART;TZID=Europe/Berlin:20240211T150000
DTEND;TZID=Europe/Berlin:20240211T160000
DTSTAMP:20260422T211707
CREATED:20240123T165743Z
LAST-MODIFIED:20240123T173233Z
UID:1437-1707663600-1707667200@sachsen-anhalt.vvn-bda.de
SUMMARY:NIE WIEDER ist JETZT! - Zeitz wehr sich gegen Demokratiefeinde"
DESCRIPTION:„Die Ereignisse von 1933 bis 1945 hätten spätestens 1928 bekämpft werden müssen. Später war es zu spät. Man darf nicht warten\, bis der Freiheitskampf Landesverrat genannt wird. Man darf nicht warten\, bis aus dem Schnellball eine Lawine geworden ist.“ \n– Erich Kästner\n\nVerteidige jetzt Demokratie und Menschenrechte! Demonstriere mit uns am 11. Februar von 15 bis 16 Uhr auf dem Zeitzer Altmarkt!\nBündnis für Vielfalt und Demokratie\nQuelle: https://www.facebook.com/events/1074749740338178/
URL:https://sachsen-anhalt.vvn-bda.de/event/nie-wieder-ist-jetzt-zeitz-wehr-sich-gegen-demokratiefeinde/
LOCATION:Altmarkt\, Altmarkt\, Zeitz
CATEGORIES:Protest
ATTACH;FMTTYPE=image/jpeg:https://sachsen-anhalt.vvn-bda.de/wp-content/uploads/sites/71/2024/01/420243546_676564567981014_6071915051360387281_n.jpg
END:VEVENT
BEGIN:VEVENT
DTSTART;TZID=Europe/Berlin:20240216T170000
DTEND;TZID=Europe/Berlin:20240216T190000
DTSTAMP:20260422T211707
CREATED:20240210T144151Z
LAST-MODIFIED:20240210T144151Z
UID:1602-1708102800-1708110000@sachsen-anhalt.vvn-bda.de
SUMMARY:"Sei ein Mensch" - Gesicht zeigen für unsere Demokratie / Bitterfeld
DESCRIPTION:Komm am 16.02.2024 nach Bitterfeld.\n„Sei ein Mensch“ – zeig dein Gesicht für unsere Demokratie. \n#gesichtzeigen #demokratie #fürdemokratie #demokratieschuetzen #fürdemokratieundtoleranz #füreinestarkedemokratie #vielfalt #toleranz #bitterfeldwolfen #bitterfeldwolfenzusammen #courage #frieden #niewiederistjetzt #niewieder #fürvielfalt #fürvielfaltundtoleranz #miteinanderfüreinander #gemeinsamstark #engagement\n#goitzsche \nBündnis für Demokratie und Toleranz \nVia Facebook: https://www.facebook.com/profile.php?id=61551779100333
URL:https://sachsen-anhalt.vvn-bda.de/event/sei-ein-mensch-gesicht-zeigen-fuer-unsere-demokratie-bitterfeld/
LOCATION:Bitterfeld\, Marktplatz\, Bitterfeld
CATEGORIES:Protest
ATTACH;FMTTYPE=image/jpeg:https://sachsen-anhalt.vvn-bda.de/wp-content/uploads/sites/71/2024/02/bitterfeldwolfenzusammen.jpg
END:VEVENT
BEGIN:VEVENT
DTSTART;TZID=Europe/Berlin:20240217T110000
DTEND;TZID=Europe/Berlin:20240217T130000
DTSTAMP:20260422T211707
CREATED:20240210T143153Z
LAST-MODIFIED:20240210T143153Z
UID:1596-1708167600-1708174800@sachsen-anhalt.vvn-bda.de
SUMMARY:Salzwedel gegen Rechts - Nie wieder ist jetzt!
DESCRIPTION:Via Instagram: fluechtlingsrat_lsa
URL:https://sachsen-anhalt.vvn-bda.de/event/salzwedel-gegen-rechts-nie-wieder-ist-jetzt/
LOCATION:Rathausturmplatz\, Salzwedel\, Neuperverstraße 29\, Salzwedel\, 29410
CATEGORIES:Protest
ATTACH;FMTTYPE=image/jpeg:https://sachsen-anhalt.vvn-bda.de/wp-content/uploads/sites/71/2024/02/salzwedel-gegen-rechts.jpg
END:VEVENT
BEGIN:VEVENT
DTSTART;TZID=Europe/Berlin:20240217T140000
DTEND;TZID=Europe/Berlin:20240217T170000
DTSTAMP:20260422T211707
CREATED:20240208T193114Z
LAST-MODIFIED:20240210T143413Z
UID:1589-1708178400-1708189200@sachsen-anhalt.vvn-bda.de
SUMMARY:Dem Rechtsruck widersetzen. Solidarisch. Vielfältig. Demokratisch. / Magdeburg
DESCRIPTION:Wir wollen in einem Land leben\, in dem man ohne Angst verschieden sein kann. Dafür stehen wir ein. Entsetzt weisen wir die Deportations- und Vertreibungspläne der extremen Rechten zurück. Viel zu lange schon trägt sie Hass und Hetze in unsere Gesellschaft. \nMit einem breiten Bündnis laden wir ein zur landesweiten Demonstration und Kundgebung für Sachsen-Anhalt. \nDem Rechtsruck widersetzen \nSolidarisch. Vielfältig. Demokratisch. \nAm 17. Februar in Magdeburg\, \nHauptbahnhof ab\, 13.00 Uhr \nDomplatz ab 14.00 Uhr \n  \nKrisen und Herausforderungen verunsichern viele Menschen in unserem Land. Viele sehnen sich nach einfachen und schnellen Antworten. Doch das sind oft keine Lösungen für unsere komplexen Probleme. Die extreme Rechte fordert\, Mauern hochzuziehen und einen Teil der Menschen aus unserem Land zu entfernen. Dafür will sie die demokratischen Institutionen missbrauchen und strebt nach der Übernahme von Regierungsmacht. \nDie Geschichte mahnt uns: Die Abwertung gesellschaftlicher Gruppen ist eine ernstzunehmende Gefahr und führt uns nie in eine bessere Zukunft. Wir leben in einer vernetzten Welt. Wir wollen und können uns nicht abschotten. Das bedeutet auch\, Menschen zu schützen\, die fliehen müssen und zu uns kommen. \nDemokratie\, Gesellschaft und Politik stehen unter Druck. Doch wir dürfen nicht vergessen\, dass die rechtlich verankerte Gleichwürdigkeit jedes Menschen\, die parlamentarische Lösungsfindung und der Schutz der Vielfalt durch den Schutz für Minderheiten aktuell die besten Prinzipien sind\, die wir haben. \nLasst uns gemeinsam gegen diese einfachen\, aber menschenfeindlichen Antworten auf die Straßen gehen. Widersetzen wir uns dem Rechtsruck. Wir stehen zusammen! \n\n\n\n\n\nVia: https://sachsen-anhalt.dgb.de/17-februar-kundgebung
URL:https://sachsen-anhalt.vvn-bda.de/event/dem-rechtsruck-widersetzen-solidarisch-vielfaeltig-demokratisch-magdeburg/
LOCATION:Magdeburg\, Domplatz\, Magdeburg
CATEGORIES:Protest
ATTACH;FMTTYPE=image/jpeg:https://sachsen-anhalt.vvn-bda.de/wp-content/uploads/sites/71/2024/02/demrechtsruckwidersetztenMD.jpg
END:VEVENT
BEGIN:VEVENT
DTSTART;TZID=Europe/Berlin:20240218T120000
DTEND;TZID=Europe/Berlin:20240218T170000
DTSTAMP:20260422T211707
CREATED:20240123T170204Z
LAST-MODIFIED:20240123T172718Z
UID:1442-1708257600-1708275600@sachsen-anhalt.vvn-bda.de
SUMMARY:GEGEN RASSISTISCHE SÄUBERUNGSFANTASIEN! / Schnellroda
DESCRIPTION:Vom 16. bis zum 18. Februar findet die Winterakademie des faschistischen Instituts für Staatspolitik (IfS) statt. Genau wie auf den AfD-Geheimtreffen wird hier über den völkischen Umsturz sinniert\, hier kommen Nazi-Kameradschafter\, Burschis\, Identitäre und AfDler*innen (oft auch in einer Person) zusammen\, hier wird ein Netzwerk gebildet\, welches weit ins sog. Bürgertum hineinreicht. Gerade faschistische Kampfbegriffe wie „Remigration“ werden hier gezielt gestreut.\nWir wollen dafür Aufmerksamkeit schaffen. Und wir wollen sie nicht in Ruhe netzwerken lassen. Wir können ein faschistisches Zentrum im Saalekreis (und auch sonst irgendwo) nicht akzeptieren. Deshalb rufen wir für den Sonntag\, den 18. Februar zum Protest in Schnellroda (Saalekreis) auf. Ab 12 Uhr freuen wir uns auf viele Antifaschist*innen\, die dafür eintreten\, dass IfS endlich dichtzumachen und dem Rechtsruck entgegenzutreten.\nBis dahin! Ein ausführlicherer Aufruf und weitere Details folgen noch. \nQuelle: https://ifsdichtmachen.noblogs.org/
URL:https://sachsen-anhalt.vvn-bda.de/event/gegen-rassistische-saeuberungsfantasien-schnellroda/
LOCATION:Schnellroda\, Schnellroda
CATEGORIES:Protest
ATTACH;FMTTYPE=image/jpeg:https://sachsen-anhalt.vvn-bda.de/wp-content/uploads/sites/71/2024/01/20240123ProtestSchnellroda.jpeg
END:VEVENT
BEGIN:VEVENT
DTSTART;TZID=Europe/Berlin:20240218T150000
DTEND;TZID=Europe/Berlin:20240218T170000
DTSTAMP:20260422T211707
CREATED:20240215T212355Z
LAST-MODIFIED:20240215T212355Z
UID:1607-1708268400-1708275600@sachsen-anhalt.vvn-bda.de
SUMMARY:Bernburg bleibt bunt
DESCRIPTION:Bündnis für Demokratie und Toleranz – gegen Rechtsextremismus und Gewalt \nVia Instagram: @miteinanderlsa
URL:https://sachsen-anhalt.vvn-bda.de/event/bernburg-bleibt-bunt/
LOCATION:Bernburg\, Karlsplatz\, Bernburg
CATEGORIES:Protest
END:VEVENT
BEGIN:VEVENT
DTSTART;TZID=Europe/Berlin:20240218T160000
DTEND;TZID=Europe/Berlin:20240218T180000
DTSTAMP:20260422T211707
CREATED:20240216T172736Z
LAST-MODIFIED:20240216T174823Z
UID:1613-1708272000-1708279200@sachsen-anhalt.vvn-bda.de
SUMMARY:Nazis die Villen wegnehmen - Identitäres Projekt beenden! / Schkopau
DESCRIPTION:In der vergangenen Woche wurde bekannt\, dass die so genannte Identitäre Bewegung (IB) ein neues Hausprojekt in Schkopau im Saalekreis realisiert hat\, nachdem zuvor ihre Aktivitäten in Halle nach jahrelangem zivilgesellschaftlichem Protest gescheitert waren. \nDie IB richtet sich gegen die demokratische Ordnung und die Vielfalt unserer Gesellschaft. Sie propagiert Rassismus\, fördert Ausgrenzung und Intoleranz durch die Ablehnung von Migration und kultureller Vielfalt und untergräbt damit den gesellschaftlichen Zusammenhalt und die Grundwerte unserer Demokratie. Am Geheimtreffen von Potsdam wirkten Kader der IB an herausgehobener Stelle mit. \nWir laden alle Bürgerinnen und Bürger\, Vereine und Initiativen ein\, sich uns anzuschließen und ein kurzes\, aber deutliches Signal für Demokratie\, Toleranz und Zivilcourage zu setzen. Es ist wichtig\, gemeinsam gegen die Verbreitung von Hass und Intoleranz vorzugehen und für ein respektvolles Miteinander in unserer Gesellschaft einzustehen. \nKundgebung am Sonntag\, 18. Februar 2024\, 16 Uhr\nSchkopau\, Hallesche Straße 27 \nBitte nutzt den Parkplatz Ladenstraße / Ecke Hallesche Straße. \nSchkopau bleibt weltoffen. Nazis die Villen wegnehmen – Identitäres Projekt beenden! \nQuelle: https://mervielfalt.wordpress.com/2024/02/16/nazis-die-villen-wegnehmen-identitares-projekt-beenden/
URL:https://sachsen-anhalt.vvn-bda.de/event/nazis-die-villen-wegnehmen-identitaeres-projekt-beenden-schkopau/
LOCATION:Schkopau\, Hallesche Straße 27\, Schkopau
CATEGORIES:Protest
ATTACH;FMTTYPE=image/jpeg:https://sachsen-anhalt.vvn-bda.de/wp-content/uploads/sites/71/2024/02/20240216Schkopau.jpeg
END:VEVENT
BEGIN:VEVENT
DTSTART;TZID=Europe/Berlin:20240222T170000
DTEND;TZID=Europe/Berlin:20240222T190000
DTSTAMP:20260422T211707
CREATED:20240219T183702Z
LAST-MODIFIED:20240219T183702Z
UID:1627-1708621200-1708628400@sachsen-anhalt.vvn-bda.de
SUMMARY:Lichter gegen Rechts - Bunt bewegt / Dessau
DESCRIPTION:Am Donnerstag\, den 22. Februar demonstrieren wir zum 2. Mal für Demokratie und Menschenrechte und gegen den Rechtsruck in unserer Gesellschaft. \nEs braucht viele Anständige\, die an diesem Tag Gesicht zeigen und zusammen für eine Zukunft ohne Nazis demonstrieren. \nDie Proteste im ganzen Land zeigen Wirkung. Die rechte Szene schimpft auf die Demonstrationen. Es stört sie\, denn sie erkennen: WIR SIND MEHR ! \nJetzt heißt es: DRAN BLEIBEN UND NICHT AUFHÖREN ! \nWir sehen uns am Donnerstag\, den 22. Februar 2024\, 17:00 Uhr auf dem Marktplatz Dessau!
URL:https://sachsen-anhalt.vvn-bda.de/event/lichter-gegen-rechts-bunt-bewegt-dessau/
LOCATION:Dessau\, Marktplatz\, Dessau
CATEGORIES:Protest
ATTACH;FMTTYPE=image/jpeg:https://sachsen-anhalt.vvn-bda.de/wp-content/uploads/sites/71/2024/02/lichtergegenrechts22022024dessau.jpg
END:VEVENT
BEGIN:VEVENT
DTSTART;TZID=Europe/Berlin:20240224T140000
DTEND;TZID=Europe/Berlin:20240224T170000
DTSTAMP:20260422T211707
CREATED:20240224T212821Z
LAST-MODIFIED:20240224T212821Z
UID:1650-1708783200-1708794000@sachsen-anhalt.vvn-bda.de
SUMMARY:Demokratisch. Solidarisch. Vielfältig. / Lutherstadt Eisleben
DESCRIPTION:Via Instagram: Halle gegen Rechts
URL:https://sachsen-anhalt.vvn-bda.de/event/demokratisch-solidarisch-vielfaeltig-lutherstadt-eisleben/
LOCATION:Lutherstadt Eisleben\, Marktplatz\, Lutherstadt Eisleben
CATEGORIES:Protest
END:VEVENT
BEGIN:VEVENT
DTSTART;TZID=Europe/Berlin:20240224T150000
DTEND;TZID=Europe/Berlin:20240224T170000
DTSTAMP:20260422T211707
CREATED:20240210T142727Z
LAST-MODIFIED:20240210T142727Z
UID:1592-1708786800-1708794000@sachsen-anhalt.vvn-bda.de
SUMMARY:Nie wieder ist jetzt - Merseburg für Demokratie und Vielfalt
DESCRIPTION:Merseburg zeigt Haltung! \nMit einem breiten Bündnis laden wir zu einer Kundgebung mit anschließender Demonstration durch Merseburg ein. Gemeinsam wollen wir für Menschenwürde\, Vielfalt und Demokratie einstehen. \nWir wollen in einem Land leben\, in dem man ohne Angst verschieden sein kann. Unsere Stadt soll ein Ort sein\, an dem jeder Mensch in Frieden und Sicherheit leben kann. Lasst uns gemeinsam für eine tolerante\, plurale und solidarische Gesellschaft eintreten\, in der alle die gleichen Rechte und Chancen haben. \nDie Enthüllungen des Recherchekollektivs Correctiv haben einmal mehr gezeigt\, wie konkret und unmittelbar unsere offene und demokratische Gesellschaft durch rechtsextremes Denken bedroht ist\, welches sich immer offener menschenfeindlich zeigt. Wir wollen zeigen\, dass wir zusammenstehen gegen jegliche Form von Diskriminierung und Ausgrenzung. Rechtsextremismus und Menschenfeindlichkeit dürfen keinen Platz in unserer Stadt haben. \nWir lassen Hass und Hetze nicht länger zu! Es ist an der Zeit\, gemeinsam ein deutliches Zeichen zu setzen: „Nie wieder ist jetzt!“. Solidarisch. Vielfältig. Demokratisch. \nAm 24. Februar 2024 ab 15 Uhr In Merseburg Start- und Endpunkt: Bahnhofsplatz \nKommt zahlreich und zeigt\, dass Merseburg eine Stadt des Zusammenhalts und der Solidarität ist! \nVia Instagram: @weltoffener_saalekreis
URL:https://sachsen-anhalt.vvn-bda.de/event/nie-wieder-ist-jetzt-merseburg-fuer-demokratie-und-vielfalt/
LOCATION:Merseburg\, Bahnhofsplatz\, Merseburg
CATEGORIES:Protest
ATTACH;FMTTYPE=image/jpeg:https://sachsen-anhalt.vvn-bda.de/wp-content/uploads/sites/71/2024/02/Merseburg-zeigt-haltung.jpg
END:VEVENT
BEGIN:VEVENT
DTSTART;TZID=Europe/Berlin:20240224T150000
DTEND;TZID=Europe/Berlin:20240224T170000
DTSTAMP:20260422T211707
CREATED:20240224T212557Z
LAST-MODIFIED:20240224T212557Z
UID:1648-1708786800-1708794000@sachsen-anhalt.vvn-bda.de
SUMMARY:Quedlinburg ist demoqratisch
DESCRIPTION:Via Instagram: @buendnis_buntes_blankenburg
URL:https://sachsen-anhalt.vvn-bda.de/event/quedlinburg-ist-demoqratisch/
LOCATION:Quedlinburg\, Marktplatz\, Marktplatz\, Quedlinburg
CATEGORIES:Protest
END:VEVENT
BEGIN:VEVENT
DTSTART;TZID=Europe/Berlin:20240224T160000
DTEND;TZID=Europe/Berlin:20240224T180000
DTSTAMP:20260422T211707
CREATED:20240224T213801Z
LAST-MODIFIED:20240224T213801Z
UID:1658-1708790400-1708797600@sachsen-anhalt.vvn-bda.de
SUMMARY:Schönebeck bleibt bunt! / Schönebeck (Elbe)
DESCRIPTION:Wir lassen unsere Demokratie nicht kaputtmachen!\nFür Menschlichkeit und gegen Hass! \nBürgerinnen und Bürger und die Kirchen Schönebecks! Gemeinsam! \nSPD\, CDU\, DIE LINKE\, GRÜNE\, FDP
URL:https://sachsen-anhalt.vvn-bda.de/event/schoenebeck-bleibt-bunt-schoenebeck-elbe/
LOCATION:Schnönebeck\, Markt (vor dem Rathaus)\, Schönebeck (Elbe)
CATEGORIES:Protest
END:VEVENT
BEGIN:VEVENT
DTSTART;TZID=Europe/Berlin:20240225T140000
DTEND;TZID=Europe/Berlin:20240225T170000
DTSTAMP:20260422T211707
CREATED:20240219T184322Z
LAST-MODIFIED:20240219T184322Z
UID:1631-1708869600-1708880400@sachsen-anhalt.vvn-bda.de
SUMMARY:Kriege Stoppen! - Frieden überall! / Bitterfeld
DESCRIPTION:Seit über 731 Tagen herrscht Krieg in der Ukraine. Beinahe täglich gibt es neue Nachrichten zu aktuellen Konflikten\, kriegerischen Auseinandersetzungen oder terroristischen Attentaten wie im Nahen Osten. \nSeit dem Beginn des Krieges versammelten sich an 15 Sonntagen und zu zwei Friedensfesten Menschen in Bitterfeld-Wolfen und fordern ein Schweigen der Waffen und Frieden. \nDer DGB Kreisverband Anhalt Bitterfeld und das Bündnis für Demokratie und Toleranz Bitterfeld-Wolfen lädt Sie für den 25-02-2024 – ab 14:00 Uhr zu einer Kundgebung auf den Marktplatz Bitterfeld ein. Im Anschluss der Kundgebung wird es die Möglichkeit zu einem stillen Gebet geben. \nBettina Kutz (DGB) & Anna Mittermayer (Bündnis für Demokratie & Toleranz Bitterfeld-Wolfen) \nVia: https://biwocourage.de/2024/01/28/kundgebung-kriege-stoppen-frieden-ueberall/ \nVia Instagram: @dgb_halle_dessau
URL:https://sachsen-anhalt.vvn-bda.de/event/kriege-stoppen-frieden-ueberall-bitterfeld/
LOCATION:Bitterfeld\, Marktplatz\, Bitterfeld
CATEGORIES:Protest
ATTACH;FMTTYPE=image/jpeg:https://sachsen-anhalt.vvn-bda.de/wp-content/uploads/sites/71/2024/02/20240225FredenBitterfeld.jpg
END:VEVENT
END:VCALENDAR