BEGIN:VCALENDAR
VERSION:2.0
PRODID:-//Vereinigung der Verfolgten des Naziregimes - ECPv6.15.20//NONSGML v1.0//EN
CALSCALE:GREGORIAN
METHOD:PUBLISH
X-WR-CALNAME:Vereinigung der Verfolgten des Naziregimes
X-ORIGINAL-URL:https://sachsen-anhalt.vvn-bda.de
X-WR-CALDESC:Veranstaltungen für Vereinigung der Verfolgten des Naziregimes
REFRESH-INTERVAL;VALUE=DURATION:PT1H
X-Robots-Tag:noindex
X-PUBLISHED-TTL:PT1H
BEGIN:VTIMEZONE
TZID:Europe/Berlin
BEGIN:DAYLIGHT
TZOFFSETFROM:+0100
TZOFFSETTO:+0200
TZNAME:CEST
DTSTART:20230326T010000
END:DAYLIGHT
BEGIN:STANDARD
TZOFFSETFROM:+0200
TZOFFSETTO:+0100
TZNAME:CET
DTSTART:20231029T010000
END:STANDARD
BEGIN:DAYLIGHT
TZOFFSETFROM:+0100
TZOFFSETTO:+0200
TZNAME:CEST
DTSTART:20240331T010000
END:DAYLIGHT
BEGIN:STANDARD
TZOFFSETFROM:+0200
TZOFFSETTO:+0100
TZNAME:CET
DTSTART:20241027T010000
END:STANDARD
BEGIN:DAYLIGHT
TZOFFSETFROM:+0100
TZOFFSETTO:+0200
TZNAME:CEST
DTSTART:20250330T010000
END:DAYLIGHT
BEGIN:STANDARD
TZOFFSETFROM:+0200
TZOFFSETTO:+0100
TZNAME:CET
DTSTART:20251026T010000
END:STANDARD
END:VTIMEZONE
BEGIN:VEVENT
DTSTART;TZID=Europe/Berlin:20240413T113000
DTEND;TZID=Europe/Berlin:20240413T150000
DTSTAMP:20260424T021627
CREATED:20240411T154125Z
LAST-MODIFIED:20240411T154125Z
UID:1772-1713007800-1713020400@sachsen-anhalt.vvn-bda.de
SUMMARY:Grenzenlos gegen Rechts: Kundgebung – Demo – Konzert / Salzwedel
DESCRIPTION:Kommt zur Demonstration und Kundgebung. \nSeit vielen Wochen gehen deutschlandweit Millionen Menschen gegen die AfD und den gesellschaftlichen Rechtsruck auf die Straße. Endlich erheben viele Ihre Stimme und setzen ein deutliches Signal für die Demokratie und die offene Gesellschaft. Besonders wichtig vor den anstehenden Wahlen in Ostdeutschland im September. \nWäre heute Wahl\, würde die AfD in allen drei Bundesländern ca. 30 % der Stimmen bekommen. \nAus der Geschichte haben wir gelernt: Die Abwertung gesellschaftlicher Gruppen ist eine Gefahr\, die wir ernst nehmen müssen und welche uns nicht in eine bessere Zukunft bringt. Wir wollen und können uns nicht abschotten\, denn wir leben in einer vernetzten und globalisierten Welt. Das bedeutet auch\, Menschen zu schützen\, die fliehen müssen und zu uns kommen und jene zu begrüßen\, die bei unserem demokratischen Projekt Deutschland mitmachen wollen. Im Grundgesetzt ist verankert\, dass niemand wegen seinem Geschlecht\, seiner Abstammung\, seiner “Rasse”\, seiner Sprache\, seiner Heimat und Herkunft\, seines Glaubens\, seiner religiösen und politischen Anschauung benachteiligt werden darf. Dieses Gesetz gilt es zu verteidigen. \nWenn die Rechtsextremen und ihre Unterstützer*innen aus der „Mitte“ Pläne für Deportationen schmieden\, Ausgrenzung von Menschen fordern\, demokratische Institutionen und Entscheidungsprozesse angreifen und delegitimieren\, dürfen wir das nicht unwidersprochen lassen. \nKein Platz für Rechtsextremismus und Menschenfeindlichkeit: Weder hier noch irgendwo. \nTragen wir unsere Entschlossenheit auf die Straße und widersetzen uns dem gesellschaftlichen Rechtsruck.\nKommt am 13.4. zum Rathausturmplatz!” \nQuelle: https://unboundedaltmark.noblogs.org/post/2024/03/23/13-4-24-grenzenlos-gegen-rechtskundgebung-demo-konzert-in-salzwedel/
URL:https://sachsen-anhalt.vvn-bda.de/event/grenzenlos-gegen-rechts-kundgebung-demo-konzert-salzwedel/
LOCATION:Rathausturmplatz\, Salzwedel\, Neuperverstraße 29\, Salzwedel\, 29410
CATEGORIES:Protest
ATTACH;FMTTYPE=image/jpeg:https://sachsen-anhalt.vvn-bda.de/wp-content/uploads/sites/71/2024/04/Unboundetaltmark13042024.jpg
END:VEVENT
END:VCALENDAR