BEGIN:VCALENDAR
VERSION:2.0
PRODID:-//Vereinigung der Verfolgten des Naziregimes - ECPv6.15.20//NONSGML v1.0//EN
CALSCALE:GREGORIAN
METHOD:PUBLISH
X-ORIGINAL-URL:https://sachsen-anhalt.vvn-bda.de
X-WR-CALDESC:Veranstaltungen für Vereinigung der Verfolgten des Naziregimes
REFRESH-INTERVAL;VALUE=DURATION:PT1H
X-Robots-Tag:noindex
X-PUBLISHED-TTL:PT1H
BEGIN:VTIMEZONE
TZID:Europe/Berlin
BEGIN:DAYLIGHT
TZOFFSETFROM:+0100
TZOFFSETTO:+0200
TZNAME:CEST
DTSTART:20230326T010000
END:DAYLIGHT
BEGIN:STANDARD
TZOFFSETFROM:+0200
TZOFFSETTO:+0100
TZNAME:CET
DTSTART:20231029T010000
END:STANDARD
BEGIN:DAYLIGHT
TZOFFSETFROM:+0100
TZOFFSETTO:+0200
TZNAME:CEST
DTSTART:20240331T010000
END:DAYLIGHT
BEGIN:STANDARD
TZOFFSETFROM:+0200
TZOFFSETTO:+0100
TZNAME:CET
DTSTART:20241027T010000
END:STANDARD
BEGIN:DAYLIGHT
TZOFFSETFROM:+0100
TZOFFSETTO:+0200
TZNAME:CEST
DTSTART:20250330T010000
END:DAYLIGHT
BEGIN:STANDARD
TZOFFSETFROM:+0200
TZOFFSETTO:+0100
TZNAME:CET
DTSTART:20251026T010000
END:STANDARD
END:VTIMEZONE
BEGIN:VEVENT
DTSTART;TZID=Europe/Berlin:20240127T100000
DTEND;TZID=Europe/Berlin:20240127T120000
DTSTAMP:20260424T115517
CREATED:20240125T112524Z
LAST-MODIFIED:20240125T112524Z
UID:1516-1706349600-1706356800@sachsen-anhalt.vvn-bda.de
SUMMARY:Gemeinsam für Demokratie! / Seehausen
DESCRIPTION:27.1. 10 Uhr „Gemeinsam für Demokratie!“\, Seehausen\, Postplatz \n\n\nVia Instagram: @herz_statt_hetze_sdl
URL:https://sachsen-anhalt.vvn-bda.de/event/gemeinsam-fuer-demokratie-seehausen/
LOCATION:Seehausen\, Postplatz\, Seehausen
CATEGORIES:Protest
ATTACH;FMTTYPE=image/jpeg:https://sachsen-anhalt.vvn-bda.de/wp-content/uploads/sites/71/2024/01/Gemeinsam-fuer-Demokratie.jpg
END:VEVENT
END:VCALENDAR