BEGIN:VCALENDAR
VERSION:2.0
PRODID:-//Vereinigung der Verfolgten des Naziregimes - ECPv6.15.20//NONSGML v1.0//EN
CALSCALE:GREGORIAN
METHOD:PUBLISH
X-ORIGINAL-URL:https://sachsen-anhalt.vvn-bda.de
X-WR-CALDESC:Veranstaltungen für Vereinigung der Verfolgten des Naziregimes
REFRESH-INTERVAL;VALUE=DURATION:PT1H
X-Robots-Tag:noindex
X-PUBLISHED-TTL:PT1H
BEGIN:VTIMEZONE
TZID:Europe/Berlin
BEGIN:DAYLIGHT
TZOFFSETFROM:+0100
TZOFFSETTO:+0200
TZNAME:CEST
DTSTART:20230326T010000
END:DAYLIGHT
BEGIN:STANDARD
TZOFFSETFROM:+0200
TZOFFSETTO:+0100
TZNAME:CET
DTSTART:20231029T010000
END:STANDARD
BEGIN:DAYLIGHT
TZOFFSETFROM:+0100
TZOFFSETTO:+0200
TZNAME:CEST
DTSTART:20240331T010000
END:DAYLIGHT
BEGIN:STANDARD
TZOFFSETFROM:+0200
TZOFFSETTO:+0100
TZNAME:CET
DTSTART:20241027T010000
END:STANDARD
BEGIN:DAYLIGHT
TZOFFSETFROM:+0100
TZOFFSETTO:+0200
TZNAME:CEST
DTSTART:20250330T010000
END:DAYLIGHT
BEGIN:STANDARD
TZOFFSETFROM:+0200
TZOFFSETTO:+0100
TZNAME:CET
DTSTART:20251026T010000
END:STANDARD
END:VTIMEZONE
BEGIN:VEVENT
DTSTART;TZID=Europe/Berlin:20240125T173000
DTEND;TZID=Europe/Berlin:20240125T193000
DTSTAMP:20260424T124139
CREATED:20240123T162733Z
LAST-MODIFIED:20240123T194308Z
UID:1420-1706203800-1706211000@sachsen-anhalt.vvn-bda.de
SUMMARY:Demo für Toleranz und Vielfalt / Stapelburg
DESCRIPTION:Gemeinsam gegen Hass und Hetzte\n\nDemo Harzkreis \nDemo für Toleranz und Vielfalt \n\n\n\n\n\n\nQuelle (Link zu infos):  https://www.facebook.com/share/noiHn3cJG4c2GncC/?mibextid=WC7FNe\n\nVia https://www.demokrateam.org/demos/gemeinsam-gegen-hass-und-hetzte/
URL:https://sachsen-anhalt.vvn-bda.de/event/1420/
LOCATION:Stapelburg\, Schützenplatz\, Stapelburg
CATEGORIES:Protest
ATTACH;FMTTYPE=image/jpeg:https://sachsen-anhalt.vvn-bda.de/wp-content/uploads/sites/71/2024/01/stapelburg.jpg
END:VEVENT
END:VCALENDAR