BEGIN:VCALENDAR
VERSION:2.0
PRODID:-//Vereinigung der Verfolgten des Naziregimes - ECPv6.15.20//NONSGML v1.0//EN
CALSCALE:GREGORIAN
METHOD:PUBLISH
X-ORIGINAL-URL:https://sachsen-anhalt.vvn-bda.de
X-WR-CALDESC:Veranstaltungen für Vereinigung der Verfolgten des Naziregimes
REFRESH-INTERVAL;VALUE=DURATION:PT1H
X-Robots-Tag:noindex
X-PUBLISHED-TTL:PT1H
BEGIN:VTIMEZONE
TZID:Europe/Berlin
BEGIN:DAYLIGHT
TZOFFSETFROM:+0100
TZOFFSETTO:+0200
TZNAME:CEST
DTSTART:20230326T010000
END:DAYLIGHT
BEGIN:STANDARD
TZOFFSETFROM:+0200
TZOFFSETTO:+0100
TZNAME:CET
DTSTART:20231029T010000
END:STANDARD
BEGIN:DAYLIGHT
TZOFFSETFROM:+0100
TZOFFSETTO:+0200
TZNAME:CEST
DTSTART:20240331T010000
END:DAYLIGHT
BEGIN:STANDARD
TZOFFSETFROM:+0200
TZOFFSETTO:+0100
TZNAME:CET
DTSTART:20241027T010000
END:STANDARD
BEGIN:DAYLIGHT
TZOFFSETFROM:+0100
TZOFFSETTO:+0200
TZNAME:CEST
DTSTART:20250330T010000
END:DAYLIGHT
BEGIN:STANDARD
TZOFFSETFROM:+0200
TZOFFSETTO:+0100
TZNAME:CET
DTSTART:20251026T010000
END:STANDARD
END:VTIMEZONE
BEGIN:VEVENT
DTSTART;TZID=Europe/Berlin:20240425T180000
DTEND;TZID=Europe/Berlin:20240425T200000
DTSTAMP:20260424T064756
CREATED:20240411T092927Z
LAST-MODIFIED:20240411T092927Z
UID:1755-1714068000-1714075200@sachsen-anhalt.vvn-bda.de
SUMMARY:Podiumsdiskussion “Risiko: Rechtsextreme Mehrheit” /Halle
DESCRIPTION:Steuern wir in Deutschland wieder auf eine rechtsextreme Mehrheit zu?\n \nDieser Frage\, die in den vergangenen Monaten hunderttausende Menschen auf die Straße trieb\, wollen wir in einer Podiumsdiskussion nachgehen. \nReferierende: \n🎤 Dr. Kati Lang \nRechtsanwältin für Opfer rechtsextremer\, rassistischer und antisemitischer Gewalttaten und Mitherausgeberin des Reports „Recht gegen rechts“ \n🎤 Jakob Springfeld \nStudent in Halle\, Aktivist und Autor: „Unter Nazis. Jung\, ostdeutsch\, gegen Rechts“ \n🎤 Franziska Schröter \nHerausgeberin der „Mitte Studie“ und Referentin des Projekts gegen Rechtsextremismus der Friedrich-Ebert-Stiftung \n🎤 Klaas Müller \nWissenschaftlicher Mitarbeiter beim Thüringen-Projekt des Verfassungsblogs \nModeration: \n🎤 Juliane Victor \nWissenschaftliche Mitarbeiterin am Lehrstuhl für Politische Theorie und Ideengeschichte der Martin-Luther-Universität Halle-Wittenberg \n⏰️ 25.04.2024\, 18 Uhr \n🚩 Hörsaal Audimax\, Martin-Luther-Universität Halle-Wittenberg\, Universitätsplatz 1\, 06108 Halle (Saale) \nAnmeldung: https://www.fes.de/veranstaltungen/veranstaltungsdetail/276272 \nBei vorheriger Anmeldung können wir den Einlass garantieren; unangemeldete Gäste müssen unter Umständen aus Kapazitätsgründen abgewiesen werden. \nDie Podiumsdiskussion findet auf studentische Initiative in Kooperation mit dem Juristischen Bereich der Martin-Luther-Universität Halle-Wittenberg statt und wird finanziert und durchgeführt durch das Landesbüro Sachsen-Anhalt der Friedrich-Ebert-Stiftung.
URL:https://sachsen-anhalt.vvn-bda.de/event/podiumsdiskussion-risiko-rechtsextreme-mehrheit-halle/
LOCATION:Martin-Luther-Universität\, Universitätsplatz 1\, Halle (Saale)\, 06108
CATEGORIES:Bildung
ATTACH;FMTTYPE=image/jpeg:https://sachsen-anhalt.vvn-bda.de/wp-content/uploads/sites/71/2024/04/Sharepic.jpeg
END:VEVENT
END:VCALENDAR