BEGIN:VCALENDAR
VERSION:2.0
PRODID:-//Vereinigung der Verfolgten des Naziregimes - ECPv6.15.20//NONSGML v1.0//EN
CALSCALE:GREGORIAN
METHOD:PUBLISH
X-WR-CALNAME:Vereinigung der Verfolgten des Naziregimes
X-ORIGINAL-URL:https://sachsen-anhalt.vvn-bda.de
X-WR-CALDESC:Veranstaltungen für Vereinigung der Verfolgten des Naziregimes
REFRESH-INTERVAL;VALUE=DURATION:PT1H
X-Robots-Tag:noindex
X-PUBLISHED-TTL:PT1H
BEGIN:VTIMEZONE
TZID:Europe/Berlin
BEGIN:DAYLIGHT
TZOFFSETFROM:+0100
TZOFFSETTO:+0200
TZNAME:CEST
DTSTART:20230326T010000
END:DAYLIGHT
BEGIN:STANDARD
TZOFFSETFROM:+0200
TZOFFSETTO:+0100
TZNAME:CET
DTSTART:20231029T010000
END:STANDARD
BEGIN:DAYLIGHT
TZOFFSETFROM:+0100
TZOFFSETTO:+0200
TZNAME:CEST
DTSTART:20240331T010000
END:DAYLIGHT
BEGIN:STANDARD
TZOFFSETFROM:+0200
TZOFFSETTO:+0100
TZNAME:CET
DTSTART:20241027T010000
END:STANDARD
BEGIN:DAYLIGHT
TZOFFSETFROM:+0100
TZOFFSETTO:+0200
TZNAME:CEST
DTSTART:20250330T010000
END:DAYLIGHT
BEGIN:STANDARD
TZOFFSETFROM:+0200
TZOFFSETTO:+0100
TZNAME:CET
DTSTART:20251026T010000
END:STANDARD
END:VTIMEZONE
BEGIN:VEVENT
DTSTART;VALUE=DATE:20240603
DTEND;VALUE=DATE:20240608
DTSTAMP:20260424T041724
CREATED:20240413T103326Z
LAST-MODIFIED:20240413T103423Z
UID:1783-1717372800-1717804799@sachsen-anhalt.vvn-bda.de
SUMMARY:Projektwoche „Wehrhafte Demokratie“ an der Martin-Luther-Universität Halle-Wittenberg
DESCRIPTION:Erleben Sie spannende Diskussionen\, Workshops und Reflexionen zur Stärkung unserer Demokratie. Tauchen Sie ein\, gestalten Sie aktiv mit und freuen Sie sich auf anregende Tage des Austauschs. Herzlich willkommen zu einer Woche\, die den Dialog fördert und unser Verständnis für die Wehrhaftigkeit der Demokratie vertieft! \n \nAn dieser Stelle finden Sie in den kommenden Wochen auch das Programm und weitere Informationen zur Projektwoche. \nOrganisation:\nMartin-Luther-Universität\nHalle-Wittenberg\nPhilosophische Fakultät I\nInstitut für Politikwissenschaft
URL:https://sachsen-anhalt.vvn-bda.de/event/projektwoche-wehrhafte-demokratie-an-der-martin-luther-universitaet-halle-wittenberg/
CATEGORIES:Bildung
ATTACH;FMTTYPE=image/png:https://sachsen-anhalt.vvn-bda.de/wp-content/uploads/sites/71/2024/04/Plakat-Wehrhafte-Demokratie-724x1024-1.png
END:VEVENT
END:VCALENDAR